BEGIN:VCALENDAR
VERSION:2.0
PRODID:-//hacksw/handcal//NONSGML v1.0//EN
CALSCALE:GREGORIAN
BEGIN:VTIMEZONE
TZID:Europe/Berlin
X-LIC-LOCATION:Europe/Berlin
BEGIN:DAYLIGHT
TZOFFSETFROM:+0100
TZOFFSETTO:+0200
TZNAME:CEST
DTSTART:19700329T020000
RRULE:FREQ=YEARLY;BYDAY=-1SU;BYMONTH=3
END:DAYLIGHT
BEGIN:STANDARD
TZOFFSETFROM:+0200
TZOFFSETTO:+0100
TZNAME:CET
DTSTART:19701025T030000
RRULE:FREQ=YEARLY;BYDAY=-1SU;BYMONTH=10
END:STANDARD
END:VTIMEZONE
BEGIN:VEVENT
DTEND;TZID=Europe/Berlin:20260806T170000
UID:69e676b43e2f1
DTSTAMP:20260420T205548
LOCATION:Bornich an der Loreley
DESCRIPTION:Zwei Wochen Fuchs und Hasen als Nachbarn? Ständig Freunde und Abenteuer? Keine Langeweile - und das ohne Fernsehen\, Handy oder Computer? Wenn du zwischen 10 und 15 Jahren alt bist\, dann sei gern dabei bei unserem Lager. Auf dem Programm stehen Spiel und Sport\, kreative Angebote\, Lagerfeuer und (Nacht) -wanderungen\, Gottesdienste\, Workshops\, Tagesausflüge\, Geländespiele und wenn du dich traust auch eine Mutprobe. Zeltlager heißt: Teil einer großen Gemeinschaft sein! Wir fahren mit 80-100 Personen in unser Lager. Zusammen essen\, spielen\, singen\, entdecken und chillen wir zwei Wochen lang. Jeder und Jede ist dabei Teil einer Kleingruppen von 5-8 Teilnehmenden\, in denen die Teilnehmenden auch gemeinsam übernachten. Jede Kleingruppe wird von 2 Teamern betreut\, die auch Ansprechpartner für eure Eltern sind. Uns ist dabei wichtig\, dass wir lernen\, eine starke Gemeinschaft zu sein und dass keiner ausgeschlossen wird. \r\n\r\nUm am Zeltlager Teilzunehmen musst du kein Christ sein und keiner Kirche angehören. Weil der Glaube aber vielen von uns wichtig ist\, feiern wir im Lager Gottesdienste\, lernen bei Workshops das was wir glauben besser kennen und beten. Dabei muss keiner mitmachen\, nur dabei sein. Wir freuen uns aber auch davon zu hören\, wenn du keinen oder einen anderen Glauben hast.\r\n\r\nDu hast Interesse? \r\nDann erfahre mehr unter \r\nhttps://www.evangelisch-diez.de/angebote/kinder--jugend/freizeiten/zeltlager-2026 \r\n
URL;VALUE=URI:https://www.unser-ferienprogramm.de/rhein-lahn-kreis/veranstaltung.php?id=309840
SUMMARY:Zeltlager der Evangelischen Kirchengemeinde St. Peter zu Diez
DTSTART;TZID=Europe/Berlin:20260723T090000
END:VEVENT

END:VCALENDAR
