BEGIN:VCALENDAR
VERSION:2.0
PRODID:-//hacksw/handcal//NONSGML v1.0//EN
CALSCALE:GREGORIAN
BEGIN:VTIMEZONE
TZID:Europe/Berlin
X-LIC-LOCATION:Europe/Berlin
BEGIN:DAYLIGHT
TZOFFSETFROM:+0100
TZOFFSETTO:+0200
TZNAME:CEST
DTSTART:19700329T020000
RRULE:FREQ=YEARLY;BYDAY=-1SU;BYMONTH=3
END:DAYLIGHT
BEGIN:STANDARD
TZOFFSETFROM:+0200
TZOFFSETTO:+0100
TZNAME:CET
DTSTART:19701025T030000
RRULE:FREQ=YEARLY;BYDAY=-1SU;BYMONTH=10
END:STANDARD
END:VTIMEZONE
BEGIN:VEVENT
DTEND;TZID=Europe/Berlin:20260410T180000
UID:69e6b31207f92
DTSTAMP:20260421T011322
LOCATION:Nastätten
DESCRIPTION:Baue mit uns eine Rennstrecke im Maßstab 1:43 Modellbau. Wir bauen Gebäude auf\, richten die Startampel mit Zeiterfassung ein und Dekorieren die Rennstrecke und die Autos mit den Logos der Sponsoren.
URL;VALUE=URI:https://www.unser-ferienprogramm.de/rhein-lahn-kreis/veranstaltung.php?id=308009
SUMMARY:DRIFT! Rennstrecke bauen
DTSTART;TZID=Europe/Berlin:20260407T150000
END:VEVENT

END:VCALENDAR
