BEGIN:VCALENDAR
VERSION:2.0
PRODID:-//hacksw/handcal//NONSGML v1.0//EN
CALSCALE:GREGORIAN
BEGIN:VTIMEZONE
TZID:Europe/Berlin
X-LIC-LOCATION:Europe/Berlin
BEGIN:DAYLIGHT
TZOFFSETFROM:+0100
TZOFFSETTO:+0200
TZNAME:CEST
DTSTART:19700329T020000
RRULE:FREQ=YEARLY;BYDAY=-1SU;BYMONTH=3
END:DAYLIGHT
BEGIN:STANDARD
TZOFFSETFROM:+0200
TZOFFSETTO:+0100
TZNAME:CET
DTSTART:19701025T030000
RRULE:FREQ=YEARLY;BYDAY=-1SU;BYMONTH=10
END:STANDARD
END:VTIMEZONE
BEGIN:VEVENT
DTEND;TZID=Europe/Berlin:20260410T140000
UID:69e6b579d747a
DTSTAMP:20260421T012337
LOCATION:Nastätten
DESCRIPTION:Wir verbringen 4 Tage gemeinsam im Wald\, erleben dabei tolle Abenteuer und lernen unseren Wald kennen.\r\nUnser Programm: spielen und bauen mit Stöcken und Ästen\, Feuer machen (wenn es nicht zu heiß oder trocken ist)\, schießen mit Pfeil und Bogen und andere spannende Aktionen…
URL;VALUE=URI:https://www.unser-ferienprogramm.de/rhein-lahn-kreis/veranstaltung.php?id=308005
SUMMARY:Waldprojekt: 4 Tage rund um den Wald
DTSTART;TZID=Europe/Berlin:20260407T090000
END:VEVENT

END:VCALENDAR
