BEGIN:VCALENDAR
VERSION:2.0
PRODID:-//hacksw/handcal//NONSGML v1.0//EN
CALSCALE:GREGORIAN
BEGIN:VTIMEZONE
TZID:Europe/Berlin
X-LIC-LOCATION:Europe/Berlin
BEGIN:DAYLIGHT
TZOFFSETFROM:+0100
TZOFFSETTO:+0200
TZNAME:CEST
DTSTART:19700329T020000
RRULE:FREQ=YEARLY;BYDAY=-1SU;BYMONTH=3
END:DAYLIGHT
BEGIN:STANDARD
TZOFFSETFROM:+0200
TZOFFSETTO:+0100
TZNAME:CET
DTSTART:19701025T030000
RRULE:FREQ=YEARLY;BYDAY=-1SU;BYMONTH=10
END:STANDARD
END:VTIMEZONE
BEGIN:VEVENT
DTEND;TZID=Europe/Berlin:20260402T150000
UID:69e6b31baa453
DTSTAMP:20260421T011331
LOCATION:Nastätten
DESCRIPTION:In 4 verschiedenen Stationen werden wir unterschiedliche Osterdekorationen oder Ostergeschenke herstellen. Neben einem Osterkranz und Hasen aus Gips werden natürlich auch Ostereier bemalt.
URL;VALUE=URI:https://www.unser-ferienprogramm.de/rhein-lahn-kreis/veranstaltung.php?id=308001
SUMMARY:Osterhasen-Werkstatt
DTSTART;TZID=Europe/Berlin:20260402T100000
END:VEVENT

END:VCALENDAR
