BEGIN:VCALENDAR
VERSION:2.0
PRODID:-//hacksw/handcal//NONSGML v1.0//EN
CALSCALE:GREGORIAN
BEGIN:VTIMEZONE
TZID:Europe/Berlin
X-LIC-LOCATION:Europe/Berlin
BEGIN:DAYLIGHT
TZOFFSETFROM:+0100
TZOFFSETTO:+0200
TZNAME:CEST
DTSTART:19700329T020000
RRULE:FREQ=YEARLY;BYDAY=-1SU;BYMONTH=3
END:DAYLIGHT
BEGIN:STANDARD
TZOFFSETFROM:+0200
TZOFFSETTO:+0100
TZNAME:CET
DTSTART:19701025T030000
RRULE:FREQ=YEARLY;BYDAY=-1SU;BYMONTH=10
END:STANDARD
END:VTIMEZONE
BEGIN:VEVENT
DTEND;TZID=Europe/Berlin:20260401T170000
UID:69e6b742d7602
DTSTAMP:20260421T013114
LOCATION:Nastätten
DESCRIPTION:Komm mit auf eine Reise ins Taunus Wunderland\, wo euch die Muckels begrüßen und ihre Attraktionen vorführen. Ein ganzer Tag voller Spiel\, Spaß und Achterbahn
URL;VALUE=URI:https://www.unser-ferienprogramm.de/rhein-lahn-kreis/veranstaltung.php?id=307998
SUMMARY:Taunus Wunderland
DTSTART;TZID=Europe/Berlin:20260401T100000
END:VEVENT

END:VCALENDAR
