BEGIN:VCALENDAR
VERSION:2.0
PRODID:-//hacksw/handcal//NONSGML v1.0//EN
CALSCALE:GREGORIAN
BEGIN:VTIMEZONE
TZID:Europe/Berlin
X-LIC-LOCATION:Europe/Berlin
BEGIN:DAYLIGHT
TZOFFSETFROM:+0100
TZOFFSETTO:+0200
TZNAME:CEST
DTSTART:19700329T020000
RRULE:FREQ=YEARLY;BYDAY=-1SU;BYMONTH=3
END:DAYLIGHT
BEGIN:STANDARD
TZOFFSETFROM:+0200
TZOFFSETTO:+0100
TZNAME:CET
DTSTART:19701025T030000
RRULE:FREQ=YEARLY;BYDAY=-1SU;BYMONTH=10
END:STANDARD
END:VTIMEZONE
BEGIN:VEVENT
DTEND;TZID=Europe/Berlin:20260407T160000
UID:69e6cb00da403
DTSTAMP:20260421T025528
LOCATION:Hahnstätten
DESCRIPTION:Ferienbetreuung vom Team Jugendarbeit der Verbandsgemeinde Aar-Einrich. Mit vielen verschiedenen Outdoor-Aktivitäten rund um Hahnstätten\, kreativen Workshops\, Spiel- und Spaßmöglichkeiten.\r\n\r\nDie Platzvergabe erfolgt ab dem 02.02.2026 nach Eingang. Die Anmeldebestätigung entspricht einer verbindlichen Reservierung\, unabhängig der Zahlung des Teilnahmebeitrags. Dieser muss frühstens drei Wochen und spätestens drei Werktage vor Beginn der Betreuung vollständig auf dem Konto der Verbandsgemeinde eingegangen sein. Wichtig: Überweisen Sie den Betrag nur dann\, wenn Sie auch eine schriftliche Anmeldebestätigung erhalten haben! Die Anmeldebestätigung können Sie digital hier im Portal abrufen. Zusätzlich erhalten Sie auch innerhalb von drei Wochen nach Anmeldung eine Bestätigung von uns per Mail.\r\nWenn Sie Ihr Kind trotz eingereichter Anmeldung wieder abmelden möchten\, muss dies drei Wochen vor Betreuungsbeginn geschehen sein\, ansonsten ist der volle Beitrag zu entrichten. Die Abmeldung erfolgt ausschließlich über dieses Portal. \r\nÄnderungen der persönlichen (Kontakt-)Daten\, sowie der Allergien\, Medikation und Diagnosen sind unverzüglich mitzuteilen.\r\nWährend der Betreuung wird ein warmes Mittagessen durch einen Cateringservice gestellt\, sowie ein Nachmittagssnack. Frühstück ist von den Kindern selbst mitzubringen.\r\nSollten Sie Schwierigkeiten haben\, den Teilnahmebeitrag zu bezahlen\, melden Sie sich gerne bei uns. Wir unterstützen auch dabei den Antrag auf Bildung und Teilhabe zur Teilnahme an Ferienfreizeiten auszufüllen.\r\nWeitere Informationen entnehmen Sie bitte dem beigefügten Merkblatt.
URL;VALUE=URI:https://www.unser-ferienprogramm.de/rhein-lahn-kreis/veranstaltung.php?id=296968
SUMMARY:Osterferienbetreuung Hahnstätten
DTSTART;TZID=Europe/Berlin:20260407T080000
END:VEVENT


BEGIN:VEVENT
DTEND;TZID=Europe/Berlin:20260408T160000
UID:69e6cb00da4471
DTSTAMP:20260421T025528
LOCATION:Hahnstätten
DESCRIPTION:Ferienbetreuung vom Team Jugendarbeit der Verbandsgemeinde Aar-Einrich. Mit vielen verschiedenen Outdoor-Aktivitäten rund um Hahnstätten\, kreativen Workshops\, Spiel- und Spaßmöglichkeiten.\r\n\r\nDie Platzvergabe erfolgt ab dem 02.02.2026 nach Eingang. Die Anmeldebestätigung entspricht einer verbindlichen Reservierung\, unabhängig der Zahlung des Teilnahmebeitrags. Dieser muss frühstens drei Wochen und spätestens drei Werktage vor Beginn der Betreuung vollständig auf dem Konto der Verbandsgemeinde eingegangen sein. Wichtig: Überweisen Sie den Betrag nur dann\, wenn Sie auch eine schriftliche Anmeldebestätigung erhalten haben! Die Anmeldebestätigung können Sie digital hier im Portal abrufen. Zusätzlich erhalten Sie auch innerhalb von drei Wochen nach Anmeldung eine Bestätigung von uns per Mail.\r\nWenn Sie Ihr Kind trotz eingereichter Anmeldung wieder abmelden möchten\, muss dies drei Wochen vor Betreuungsbeginn geschehen sein\, ansonsten ist der volle Beitrag zu entrichten. Die Abmeldung erfolgt ausschließlich über dieses Portal. \r\nÄnderungen der persönlichen (Kontakt-)Daten\, sowie der Allergien\, Medikation und Diagnosen sind unverzüglich mitzuteilen.\r\nWährend der Betreuung wird ein warmes Mittagessen durch einen Cateringservice gestellt\, sowie ein Nachmittagssnack. Frühstück ist von den Kindern selbst mitzubringen.\r\nSollten Sie Schwierigkeiten haben\, den Teilnahmebeitrag zu bezahlen\, melden Sie sich gerne bei uns. Wir unterstützen auch dabei den Antrag auf Bildung und Teilhabe zur Teilnahme an Ferienfreizeiten auszufüllen.\r\nWeitere Informationen entnehmen Sie bitte dem beigefügten Merkblatt.
URL;VALUE=URI:https://www.unser-ferienprogramm.de/rhein-lahn-kreis/veranstaltung.php?id=296968
SUMMARY:Osterferienbetreuung Hahnstätten
DTSTART;TZID=Europe/Berlin:20260408T080000
END:VEVENT


BEGIN:VEVENT
DTEND;TZID=Europe/Berlin:20260409T160000
UID:69e6cb00da45b2
DTSTAMP:20260421T025528
LOCATION:Hahnstätten
DESCRIPTION:Ferienbetreuung vom Team Jugendarbeit der Verbandsgemeinde Aar-Einrich. Mit vielen verschiedenen Outdoor-Aktivitäten rund um Hahnstätten\, kreativen Workshops\, Spiel- und Spaßmöglichkeiten.\r\n\r\nDie Platzvergabe erfolgt ab dem 02.02.2026 nach Eingang. Die Anmeldebestätigung entspricht einer verbindlichen Reservierung\, unabhängig der Zahlung des Teilnahmebeitrags. Dieser muss frühstens drei Wochen und spätestens drei Werktage vor Beginn der Betreuung vollständig auf dem Konto der Verbandsgemeinde eingegangen sein. Wichtig: Überweisen Sie den Betrag nur dann\, wenn Sie auch eine schriftliche Anmeldebestätigung erhalten haben! Die Anmeldebestätigung können Sie digital hier im Portal abrufen. Zusätzlich erhalten Sie auch innerhalb von drei Wochen nach Anmeldung eine Bestätigung von uns per Mail.\r\nWenn Sie Ihr Kind trotz eingereichter Anmeldung wieder abmelden möchten\, muss dies drei Wochen vor Betreuungsbeginn geschehen sein\, ansonsten ist der volle Beitrag zu entrichten. Die Abmeldung erfolgt ausschließlich über dieses Portal. \r\nÄnderungen der persönlichen (Kontakt-)Daten\, sowie der Allergien\, Medikation und Diagnosen sind unverzüglich mitzuteilen.\r\nWährend der Betreuung wird ein warmes Mittagessen durch einen Cateringservice gestellt\, sowie ein Nachmittagssnack. Frühstück ist von den Kindern selbst mitzubringen.\r\nSollten Sie Schwierigkeiten haben\, den Teilnahmebeitrag zu bezahlen\, melden Sie sich gerne bei uns. Wir unterstützen auch dabei den Antrag auf Bildung und Teilhabe zur Teilnahme an Ferienfreizeiten auszufüllen.\r\nWeitere Informationen entnehmen Sie bitte dem beigefügten Merkblatt.
URL;VALUE=URI:https://www.unser-ferienprogramm.de/rhein-lahn-kreis/veranstaltung.php?id=296968
SUMMARY:Osterferienbetreuung Hahnstätten
DTSTART;TZID=Europe/Berlin:20260409T080000
END:VEVENT


BEGIN:VEVENT
DTEND;TZID=Europe/Berlin:20260410T160000
UID:69e6cb00da46b3
DTSTAMP:20260421T025528
LOCATION:Hahnstätten
DESCRIPTION:Ferienbetreuung vom Team Jugendarbeit der Verbandsgemeinde Aar-Einrich. Mit vielen verschiedenen Outdoor-Aktivitäten rund um Hahnstätten\, kreativen Workshops\, Spiel- und Spaßmöglichkeiten.\r\n\r\nDie Platzvergabe erfolgt ab dem 02.02.2026 nach Eingang. Die Anmeldebestätigung entspricht einer verbindlichen Reservierung\, unabhängig der Zahlung des Teilnahmebeitrags. Dieser muss frühstens drei Wochen und spätestens drei Werktage vor Beginn der Betreuung vollständig auf dem Konto der Verbandsgemeinde eingegangen sein. Wichtig: Überweisen Sie den Betrag nur dann\, wenn Sie auch eine schriftliche Anmeldebestätigung erhalten haben! Die Anmeldebestätigung können Sie digital hier im Portal abrufen. Zusätzlich erhalten Sie auch innerhalb von drei Wochen nach Anmeldung eine Bestätigung von uns per Mail.\r\nWenn Sie Ihr Kind trotz eingereichter Anmeldung wieder abmelden möchten\, muss dies drei Wochen vor Betreuungsbeginn geschehen sein\, ansonsten ist der volle Beitrag zu entrichten. Die Abmeldung erfolgt ausschließlich über dieses Portal. \r\nÄnderungen der persönlichen (Kontakt-)Daten\, sowie der Allergien\, Medikation und Diagnosen sind unverzüglich mitzuteilen.\r\nWährend der Betreuung wird ein warmes Mittagessen durch einen Cateringservice gestellt\, sowie ein Nachmittagssnack. Frühstück ist von den Kindern selbst mitzubringen.\r\nSollten Sie Schwierigkeiten haben\, den Teilnahmebeitrag zu bezahlen\, melden Sie sich gerne bei uns. Wir unterstützen auch dabei den Antrag auf Bildung und Teilhabe zur Teilnahme an Ferienfreizeiten auszufüllen.\r\nWeitere Informationen entnehmen Sie bitte dem beigefügten Merkblatt.
URL;VALUE=URI:https://www.unser-ferienprogramm.de/rhein-lahn-kreis/veranstaltung.php?id=296968
SUMMARY:Osterferienbetreuung Hahnstätten
DTSTART;TZID=Europe/Berlin:20260410T080000
END:VEVENT

END:VCALENDAR
