BEGIN:VCALENDAR
VERSION:2.0
PRODID:-//hacksw/handcal//NONSGML v1.0//EN
CALSCALE:GREGORIAN
BEGIN:VTIMEZONE
TZID:Europe/Berlin
X-LIC-LOCATION:Europe/Berlin
BEGIN:DAYLIGHT
TZOFFSETFROM:+0100
TZOFFSETTO:+0200
TZNAME:CEST
DTSTART:19700329T020000
RRULE:FREQ=YEARLY;BYDAY=-1SU;BYMONTH=3
END:DAYLIGHT
BEGIN:STANDARD
TZOFFSETFROM:+0200
TZOFFSETTO:+0100
TZNAME:CET
DTSTART:19701025T030000
RRULE:FREQ=YEARLY;BYDAY=-1SU;BYMONTH=10
END:STANDARD
END:VTIMEZONE
BEGIN:VEVENT
DTEND;TZID=Europe/Berlin:20260402T170000
UID:69e6c88828175
DTSTAMP:20260421T024456
LOCATION:Diez/Lahn
DESCRIPTION:Fahrradfreizeit für Kinder und Jugendliche ab 10  Jahren.\r\n\r\nMit dem Bike unternehmen wir Touren entlang der Aar und der Lahn. Basiscamp ist das Jugendzentrum Diez\r\n\r\nDich erwarten Spaß\, Aktion und eine tolle Gemeinschaft. 
URL;VALUE=URI:https://www.unser-ferienprogramm.de/rhein-lahn-kreis/veranstaltung.php?id=295366
SUMMARY:Bike Camp an Aar und Lahn
DTSTART;TZID=Europe/Berlin:20260329T100000
END:VEVENT

END:VCALENDAR
