BEGIN:VCALENDAR
VERSION:2.0
PRODID:-//hacksw/handcal//NONSGML v1.0//EN
CALSCALE:GREGORIAN
BEGIN:VTIMEZONE
TZID:Europe/Berlin
X-LIC-LOCATION:Europe/Berlin
BEGIN:DAYLIGHT
TZOFFSETFROM:+0100
TZOFFSETTO:+0200
TZNAME:CEST
DTSTART:19700329T020000
RRULE:FREQ=YEARLY;BYDAY=-1SU;BYMONTH=3
END:DAYLIGHT
BEGIN:STANDARD
TZOFFSETFROM:+0200
TZOFFSETTO:+0100
TZNAME:CET
DTSTART:19701025T030000
RRULE:FREQ=YEARLY;BYDAY=-1SU;BYMONTH=10
END:STANDARD
END:VTIMEZONE
BEGIN:VEVENT
DTEND;TZID=Europe/Berlin:20260410T160000
UID:69e6cdc24ab12
DTSTAMP:20260421T030714
LOCATION:Bad Ems Turnhalle des Goethe-Gymnasiums
DESCRIPTION:Manege frei für kleine Artistinnen und Artisten!\r\n\r\nIn unserem viertägigen Zirkus-Workshop lernen Kinder und Jugendliche Akrobatik\, Jonglage\, Balance und Clownerie. Spielerisch entdecken sie ihre Talente\, stärken ihr Selbstvertrauen und wachsen als Team zusammen. \r\n(Es werden überdies Methoden und Tipps für eine gesunde und abwechslungsreiche Ernährung und Fitness im Alltag vermittelt).\r\nKrönender Abschluss: Die große Präsentation einer Zirkusshow für Familie und Freunde.\r\n\r\nTägliche Workshopzeiten: 07.04. -10.04.2026\, 10.00 bis 16.00 Uhr\r\n\r\nAbschluss-Vorstellung mit Einladung Familie/Freunde der TeilnehmerInnen:\r\nFreitag\, 10.04.2026\, ab 14.30 Uhr
URL;VALUE=URI:https://www.unser-ferienprogramm.de/rhein-lahn-kreis/veranstaltung.php?id=292551
SUMMARY:Cirkus Work Shop for Kids
DTSTART;TZID=Europe/Berlin:20260407T100000
END:VEVENT

END:VCALENDAR
