BEGIN:VCALENDAR
VERSION:2.0
PRODID:-//hacksw/handcal//NONSGML v1.0//EN
CALSCALE:GREGORIAN
BEGIN:VTIMEZONE
TZID:Europe/Berlin
X-LIC-LOCATION:Europe/Berlin
BEGIN:DAYLIGHT
TZOFFSETFROM:+0100
TZOFFSETTO:+0200
TZNAME:CEST
DTSTART:19700329T020000
RRULE:FREQ=YEARLY;BYDAY=-1SU;BYMONTH=3
END:DAYLIGHT
BEGIN:STANDARD
TZOFFSETFROM:+0200
TZOFFSETTO:+0100
TZNAME:CET
DTSTART:19701025T030000
RRULE:FREQ=YEARLY;BYDAY=-1SU;BYMONTH=10
END:STANDARD
END:VTIMEZONE
BEGIN:VEVENT
DTEND;TZID=Europe/Berlin:20260402T120000
UID:69e6c99711610
DTSTAMP:20260421T024927
LOCATION:Haus Quitte Aargbergen-Panrod
DESCRIPTION:Zum 2. Mal findet die Kreativferienfreizeit für Mädchen ab 12 Jahren statt. Betreut wird diese durch die Schulsozialarbeiterinnen des Kreises in Kooperation mit der Diakonie.\r\n\r\nIn den 5 Tagen werden wir gemeinsam mit euch eine tolle gemeinsame und kreative Zeit verbringen. Geplant sind Plottern\, Perlenarbeiten\, ein Krimi Dinner\, bei dem jede die möchte\, eine Rolle bekommt und wir gemeinsam Kostüme erstellen. Auch gemeinsames Kochen und Spülarbeiten werden nicht ausbleiben. Gemeinsam mit euch werden wir eigene Kosmetik erstellen und uns mit Yoga Übungen in den Einklang mit der Natur bringen. Bei abendlichen Lagerfeuer mit Stockbrot oder Marshmellows können wir uns austauschen. Vielleicht lassen wir es uns auch mit Gesichtsmasken und Bubble Tea gut gehen. Mit uns ist einiges möglich\, alles kann aber nichts muss. \r\n\r\nIn Abstimmung mit euch beim Vortreffen\, sind wir auch für andere Ideen bereit. \r\n\r\n\r\n
URL;VALUE=URI:https://www.unser-ferienprogramm.de/rhein-lahn-kreis/veranstaltung.php?id=255367
SUMMARY:Kreativfreizeit für Mädchen
DTSTART;TZID=Europe/Berlin:20260329T170000
END:VEVENT

END:VCALENDAR
