BEGIN:VCALENDAR
VERSION:2.0
PRODID:-//hacksw/handcal//NONSGML v1.0//EN
CALSCALE:GREGORIAN
BEGIN:VTIMEZONE
TZID:Europe/Berlin
X-LIC-LOCATION:Europe/Berlin
BEGIN:DAYLIGHT
TZOFFSETFROM:+0100
TZOFFSETTO:+0200
TZNAME:CEST
DTSTART:19700329T020000
RRULE:FREQ=YEARLY;BYDAY=-1SU;BYMONTH=3
END:DAYLIGHT
BEGIN:STANDARD
TZOFFSETFROM:+0200
TZOFFSETTO:+0100
TZNAME:CET
DTSTART:19701025T030000
RRULE:FREQ=YEARLY;BYDAY=-1SU;BYMONTH=10
END:STANDARD
END:VTIMEZONE
BEGIN:VEVENT
DTEND;TZID=Europe/Berlin:20260421T180000
UID:69e5910bb004f
DTSTAMP:20260420T043555
LOCATION:Freizeitanlagen Groß Reken
DESCRIPTION:Komm raus und werd aktiv! Beim offenen und kostenlosen Angebot vom AREA Mobil „Outdoor-Sport mit Spaß“ heißt es: Draußen Sport tut gut – und gemeinsam macht es gleich doppelt so viel Spaß!\r\n\r\nOb Fußball\, Basketball\, Skaten oder Federball – hier ist für alle etwas dabei. Wer Lust hat\, kann sich außerdem an verschiedenen Sportgeräten ausprobieren und spielerisch messen. Im Vordergrund stehen Bewegung\, Freude und das gemeinsame Erleben.\r\n\r\nDas Angebot richtet sich an alle\, die sich gerne an der frischen Luft bewegen und neue Sportarten entdecken möchten. Ganz ohne Anmeldung und kostenfrei – einfach vorbeikommen und mitmachen!
URL;VALUE=URI:https://www.unser-ferienprogramm.de/reken/veranstaltung.php?id=312123
SUMMARY:Offenes Angebot: Outdoor-Sport mit Spaß
DTSTART;TZID=Europe/Berlin:20260421T150000
END:VEVENT

END:VCALENDAR
