BEGIN:VCALENDAR
VERSION:2.0
PRODID:-//hacksw/handcal//NONSGML v1.0//EN
CALSCALE:GREGORIAN
BEGIN:VTIMEZONE
TZID:Europe/Berlin
X-LIC-LOCATION:Europe/Berlin
BEGIN:DAYLIGHT
TZOFFSETFROM:+0100
TZOFFSETTO:+0200
TZNAME:CEST
DTSTART:19700329T020000
RRULE:FREQ=YEARLY;BYDAY=-1SU;BYMONTH=3
END:DAYLIGHT
BEGIN:STANDARD
TZOFFSETFROM:+0200
TZOFFSETTO:+0100
TZNAME:CET
DTSTART:19701025T030000
RRULE:FREQ=YEARLY;BYDAY=-1SU;BYMONTH=10
END:STANDARD
END:VTIMEZONE
BEGIN:VEVENT
DTEND;TZID=Europe/Berlin:20260428T180000
UID:69e58f768c71a
DTSTAMP:20260420T042910
LOCATION:Niedrigseilgarten Groß Reken
DESCRIPTION:Komm mit raus ins Grüne! Beim offenen und kostenlosen Angebot vom AREA Mobil „Waldspaziergang mit Hund“ heißt es: runter vom Sofa\, rein in die Natur!\r\n\r\nGemeinsam machen wir einen entspannten Spaziergang durch den Wald\, genießen frische Luft und lassen den Alltag hinter uns. Dabei gibt es auch Spannendes über die Natur zu entdecken und zu lernen – perfekt für alle\, die neugierig sind und ihre Umgebung besser kennenlernen möchten.\r\n\r\nFür gute Laune sorgt die tierische Begleitung von Sandras Hund Rookie\, der sich über neue Gesichter freut. Außerdem können unterwegs gemeinsam kleine Spiele gespielt werden\, die für Spaß und Bewegung sorgen. Direkt vor Ort gibt es zusätzlich einen Niedrigseilgarten\, der ausprobiert werden kann.\r\n\r\nDas Angebot richtet sich an alle\, die Lust auf Bewegung\, Natur\, Lernen und nette Gesellschaft haben – ganz ohne Anmeldung und kostenfrei. Einfach vorbeikommen und mitlaufen!
URL;VALUE=URI:https://www.unser-ferienprogramm.de/reken/veranstaltung.php?id=312121
SUMMARY:Offenes Angebot: Waldspaziergang mit Hund
DTSTART;TZID=Europe/Berlin:20260428T150000
END:VEVENT

END:VCALENDAR
