BEGIN:VCALENDAR
VERSION:2.0
PRODID:-//hacksw/handcal//NONSGML v1.0//EN
CALSCALE:GREGORIAN
BEGIN:VTIMEZONE
TZID:Europe/Berlin
X-LIC-LOCATION:Europe/Berlin
BEGIN:DAYLIGHT
TZOFFSETFROM:+0100
TZOFFSETTO:+0200
TZNAME:CEST
DTSTART:19700329T020000
RRULE:FREQ=YEARLY;BYDAY=-1SU;BYMONTH=3
END:DAYLIGHT
BEGIN:STANDARD
TZOFFSETFROM:+0200
TZOFFSETTO:+0100
TZNAME:CET
DTSTART:19701025T030000
RRULE:FREQ=YEARLY;BYDAY=-1SU;BYMONTH=10
END:STANDARD
END:VTIMEZONE
BEGIN:VEVENT
DTEND;TZID=Europe/Berlin:20260424T193000
UID:69e5909346fe2
DTSTAMP:20260420T043355
LOCATION:Cinema Coesfeld
DESCRIPTION:Habt ihr Lust auf ein richtig cooles Abenteuer mit AREA Mobil? Dann kommt mit uns ins Kino – wir schauen gemeinsam den brandneuen Film „Super Mario Galaxy“! (Unter Vorbehalt) (FSK 6)\r\n\r\nErlebe ein galaktisches Abenteuer mit Mario und seinen Freunden! In dem neuen Film Super Mario Galaxy begibst du dich auf eine spannende Reise durch ferne Welten voller Action\, Humor und Magie. Begleite Mario im Kino dabei\, wie er neue Herausforderungen meistert und das Universum rettet – ein Spaß für jedes Alter!\r\n\r\nWichtig: Popcorn und Getränke könnt ihr euch selbst vor Ort kaufen.\r\n\r\nAlso – schnappt euch eure Freunde und kommt mit! 
URL;VALUE=URI:https://www.unser-ferienprogramm.de/reken/veranstaltung.php?id=312118
SUMMARY:Kinobesuch im April
DTSTART;TZID=Europe/Berlin:20260424T161500
END:VEVENT

END:VCALENDAR
