BEGIN:VCALENDAR
VERSION:2.0
PRODID:-//hacksw/handcal//NONSGML v1.0//EN
CALSCALE:GREGORIAN
BEGIN:VTIMEZONE
TZID:Europe/Berlin
X-LIC-LOCATION:Europe/Berlin
BEGIN:DAYLIGHT
TZOFFSETFROM:+0100
TZOFFSETTO:+0200
TZNAME:CEST
DTSTART:19700329T020000
RRULE:FREQ=YEARLY;BYDAY=-1SU;BYMONTH=3
END:DAYLIGHT
BEGIN:STANDARD
TZOFFSETFROM:+0200
TZOFFSETTO:+0100
TZNAME:CET
DTSTART:19701025T030000
RRULE:FREQ=YEARLY;BYDAY=-1SU;BYMONTH=10
END:STANDARD
END:VTIMEZONE
BEGIN:VEVENT
DTEND;TZID=Europe/Berlin:20260509T170000
UID:69e590678b576
DTSTAMP:20260420T043311
LOCATION:Skatepark in der Freizeitanlage Groß Reken\, Berge 1\, 48734 Groß-Reken
DESCRIPTION:Erlebe actiongeladene Skateboard-Stunden im Skatepark Groß-Reken für Teilnehmende ab 10 Jahren!\r\n\r\nGemeinsam mit den erfahrenen Skateboard-Coaches Jonas Harlacher und Claas Hundsdörfer tauchst du in die Welt des Skatens ein. Du lernst Schritt für Schritt die Grundlagen wie sicheres Fahren\, Bremsen und erste Tricks – oder arbeitest gezielt an deinen Skills\, um neue Moves auf den Skate-Elementen im Park zu meistern. Spaß\, Motivation und ein gutes Miteinander stehen dabei immer im Mittelpunkt – egal ob Anfänger*in oder mit ersten Erfahrungen.\r\n\r\nNeben der Zeit auf dem Board gibt es noch ein kreatives Extra: Sandra und Eva zeigen dir\, wie du deine eigene Ausrüstung mit coolen Stickern oder bunten Eddings aufpimpen und deinem Board einen ganz persönlichen Style verpassen kannst.\r\n\r\nFreu dich auf intensives Coaching\, neue Challenges\, Erfolgsmomente und eine richtig gute Zeit im Park. Also Board schnappen und los – dein nächstes Level wartet schon!\r\nFür eine kleine Stärkung zwischendurch ist natürlich auch etwas Leckeres zu essen dabei.\r\n
URL;VALUE=URI:https://www.unser-ferienprogramm.de/reken/veranstaltung.php?id=309376
SUMMARY:Skateboard Aktion-Auf die Boards\, fertig\, los
DTSTART;TZID=Europe/Berlin:20260509T140000
END:VEVENT

END:VCALENDAR
