BEGIN:VCALENDAR
VERSION:2.0
PRODID:-//hacksw/handcal//NONSGML v1.0//EN
CALSCALE:GREGORIAN
BEGIN:VTIMEZONE
TZID:Europe/Berlin
X-LIC-LOCATION:Europe/Berlin
BEGIN:DAYLIGHT
TZOFFSETFROM:+0100
TZOFFSETTO:+0200
TZNAME:CEST
DTSTART:19700329T020000
RRULE:FREQ=YEARLY;BYDAY=-1SU;BYMONTH=3
END:DAYLIGHT
BEGIN:STANDARD
TZOFFSETFROM:+0200
TZOFFSETTO:+0100
TZNAME:CET
DTSTART:19701025T030000
RRULE:FREQ=YEARLY;BYDAY=-1SU;BYMONTH=10
END:STANDARD
END:VTIMEZONE
BEGIN:VEVENT
DTEND;TZID=Europe/Berlin:20260401T170000
UID:69e5bd8449890
DTSTAMP:20260420T074540
LOCATION:Kindertreff KleinAREA\, Dorfstr. 1 - 48734 Klein Reken
DESCRIPTION:Abstraktes Acryl auf Leinwand – Deine Farben\, deine Fantasie!\r\n\r\nBereit für ein kreatives Abenteuer? Bei unserer peppigen Kunst-Aktion für Kids von 8 bis 12 Jahren wird’s bunt\, wild und richtig spannend!\r\n\r\nHier gibt es keine Regeln und kein „richtig oder falsch“ – nur dich\, deine Ideen und jede Menge leuchtende Acrylfarben. Tropfen\, spritzen\, tupfen\, oder wischen – du entscheidest\, wie dein Kunstwerk entsteht!\r\n\r\nWas dich erwartet:\r\n-Experimentieren mit kräftigen Acrylfarben\r\n-Coole Techniken wie Schichten\, Strukturen und Farbverläufe\r\n-Malen auf echter Leinwand – wie ein richtiger Künstler oder eine richtige Künstlerin\r\n-Jede Menge Spaß in einer kreativen Gruppe\r\n\r\nAm Ende nimmst du dein eigenes\, einzigartiges abstraktes Meisterwerk mit nach Hause – garantiert ein Hingucker für dein Zimmer!\r\n\r\nTrau dich\, sei mutig\, misch deine Lieblingsfarben und entdecke den Künstler oder die Künstlerin in dir! 
URL;VALUE=URI:https://www.unser-ferienprogramm.de/reken/veranstaltung.php?id=309235
SUMMARY:Abstraktes Acryl auf Leinwand 2
DTSTART;TZID=Europe/Berlin:20260401T140000
END:VEVENT

END:VCALENDAR
