BEGIN:VCALENDAR
VERSION:2.0
PRODID:-//hacksw/handcal//NONSGML v1.0//EN
CALSCALE:GREGORIAN
BEGIN:VTIMEZONE
TZID:Europe/Berlin
X-LIC-LOCATION:Europe/Berlin
BEGIN:DAYLIGHT
TZOFFSETFROM:+0100
TZOFFSETTO:+0200
TZNAME:CEST
DTSTART:19700329T020000
RRULE:FREQ=YEARLY;BYDAY=-1SU;BYMONTH=3
END:DAYLIGHT
BEGIN:STANDARD
TZOFFSETFROM:+0200
TZOFFSETTO:+0100
TZNAME:CET
DTSTART:19701025T030000
RRULE:FREQ=YEARLY;BYDAY=-1SU;BYMONTH=10
END:STANDARD
END:VTIMEZONE
BEGIN:VEVENT
DTEND;TZID=Europe/Berlin:20260330T180000
UID:69e5be5d5fe4d
DTSTAMP:20260420T074917
LOCATION:Jugendhaus AREA48734\, Overbergstr. 11 - 48734 Groß Reken
DESCRIPTION:In diesem zweitägigen Kreativworkshop können Kinder ihrer Fantasie freien Lauf lassen und mit lufttrocknender Knete eigene kleine Kunstwerke gestalten. Gemeinsam formen wir am ersten Tag verschiedene kreative Projekte – zum Beispiel Schmuckschalen in Blätteroptik\, bunte Schlüsselanhänger\, Kühlschrankmagnete oder kleine dekorative Figuren.\r\n\r\nDabei können die Teilnehmenden entweder nach Vorlagen arbeiten oder ganz frei ihre eigenen Ideen umsetzen. So entstehen viele individuelle Werke\, die die persönliche Kreativität widerspiegeln.\r\n\r\nAm ersten Workshoptag werden die Rohprodukte geformt und gestaltet. Über Nacht können sie vollständig trocknen. Am zweiten Tag werden die fertigen Stücke dann individuell bemalt und verziert. So bekommen die kleinen Kunstwerke ihren ganz persönlichen Look und können anschließend mit nach Hause genommen werden.\r\n\r\nDas erwartet die Teilnehmenden:\r\nArbeiten mit lufttrocknender Knete\r\nGestalten von Schmuckschalen in Blätteroptik\r\nFormen von Schlüsselanhängern\, Kühlschrankmagneten oder kleinen Deko-Figuren\r\nArbeiten nach Vorlagen oder frei nach eigener Kreativität\r\nBemalen und Verzieren der getrockneten Werke am zweiten Tag\r\n\r\nEin kreativer Workshop voller Ideen\, Farben und selbstgemachter Kunstwerke!
URL;VALUE=URI:https://www.unser-ferienprogramm.de/reken/veranstaltung.php?id=308350
SUMMARY:Kreativwerkstatt mit lufttrocknender Knete
DTSTART;TZID=Europe/Berlin:20260330T150000
END:VEVENT


BEGIN:VEVENT
DTEND;TZID=Europe/Berlin:20260401T140000
UID:69e5be5d5fe921
DTSTAMP:20260420T074917
LOCATION:Jugendhaus AREA48734\, Overbergstr. 11 - 48734 Groß Reken
DESCRIPTION:In diesem zweitägigen Kreativworkshop können Kinder ihrer Fantasie freien Lauf lassen und mit lufttrocknender Knete eigene kleine Kunstwerke gestalten. Gemeinsam formen wir am ersten Tag verschiedene kreative Projekte – zum Beispiel Schmuckschalen in Blätteroptik\, bunte Schlüsselanhänger\, Kühlschrankmagnete oder kleine dekorative Figuren.\r\n\r\nDabei können die Teilnehmenden entweder nach Vorlagen arbeiten oder ganz frei ihre eigenen Ideen umsetzen. So entstehen viele individuelle Werke\, die die persönliche Kreativität widerspiegeln.\r\n\r\nAm ersten Workshoptag werden die Rohprodukte geformt und gestaltet. Über Nacht können sie vollständig trocknen. Am zweiten Tag werden die fertigen Stücke dann individuell bemalt und verziert. So bekommen die kleinen Kunstwerke ihren ganz persönlichen Look und können anschließend mit nach Hause genommen werden.\r\n\r\nDas erwartet die Teilnehmenden:\r\nArbeiten mit lufttrocknender Knete\r\nGestalten von Schmuckschalen in Blätteroptik\r\nFormen von Schlüsselanhängern\, Kühlschrankmagneten oder kleinen Deko-Figuren\r\nArbeiten nach Vorlagen oder frei nach eigener Kreativität\r\nBemalen und Verzieren der getrockneten Werke am zweiten Tag\r\n\r\nEin kreativer Workshop voller Ideen\, Farben und selbstgemachter Kunstwerke!
URL;VALUE=URI:https://www.unser-ferienprogramm.de/reken/veranstaltung.php?id=308350
SUMMARY:Kreativwerkstatt mit lufttrocknender Knete
DTSTART;TZID=Europe/Berlin:20260401T110000
END:VEVENT

END:VCALENDAR
