BEGIN:VCALENDAR
VERSION:2.0
PRODID:-//hacksw/handcal//NONSGML v1.0//EN
CALSCALE:GREGORIAN
BEGIN:VTIMEZONE
TZID:Europe/Berlin
X-LIC-LOCATION:Europe/Berlin
BEGIN:DAYLIGHT
TZOFFSETFROM:+0100
TZOFFSETTO:+0200
TZNAME:CEST
DTSTART:19700329T020000
RRULE:FREQ=YEARLY;BYDAY=-1SU;BYMONTH=3
END:DAYLIGHT
BEGIN:STANDARD
TZOFFSETFROM:+0200
TZOFFSETTO:+0100
TZNAME:CET
DTSTART:19701025T030000
RRULE:FREQ=YEARLY;BYDAY=-1SU;BYMONTH=10
END:STANDARD
END:VTIMEZONE
BEGIN:VEVENT
DTEND;TZID=Europe/Berlin:20260407T130000
UID:69e5c14d46bc1
DTSTAMP:20260420T080149
LOCATION:Jugendhaus AREA48734\, Overbergstraße 11\, 48734 Groß Reken
DESCRIPTION:Kreativ mit Holz – Deine eigene Werkstatt mit der Laubsäge!\r\n\r\nDu bist 10 Jahre oder älter und hast Lust\, etwas mit deinen eigenen Händen zu erschaffen? Dann komm in unsere Holzwerkstatt mit Laubsägen!\r\n\r\nHier wird gesägt\, gefeilt\, geschliffen – und am Ende hältst du dein ganz persönliches Kunstwerk aus Holz in den Händen. \r\n\r\nDas erwartet dich:\r\n-Einführung in den sicheren Umgang mit der Laubsäge\r\n-Coole Vorlagen: Tiere\, Schriftzüge\, Deko\, Schlüsselanhänger oder Fantasiefiguren\r\n-Tipps & Tricks von Profi Eva (pädagogische Fachkraft im Jugendwerk Reken und zusätzlich ausgebildete Tischlerin)\r\n-Schleifen\, Bemalen und Verzieren deiner Werke\r\n-Raum für deine eigenen Ideen!\r\n\r\nWas du lernst:\r\n-Genaues Arbeiten und Geduld\r\n-Kreatives Gestalten\r\n-Handwerkliche Grundtechniken\r\n-Stolz auf dein eigenes Projekt sein\r\n\r\nEgal\, ob du Anfänger*in bist oder schon erste Werkstatt-Erfahrung hast – hier ist Platz für alle kreativen Köpfe!\r\n\r\nAm Ende nimmst du mindestens ein fertiges Werkstück mit nach Hause – vielleicht sogar dein neues Lieblingsstück!\r\n\r\nMach mit und entdecke\, was in dir steckt – wir freuen uns auf dich! 
URL;VALUE=URI:https://www.unser-ferienprogramm.de/reken/veranstaltung.php?id=303932
SUMMARY:Holzwerkstatt
DTSTART;TZID=Europe/Berlin:20260407T100000
END:VEVENT


BEGIN:VEVENT
DTEND;TZID=Europe/Berlin:20260409T130000
UID:69e5c14d46c061
DTSTAMP:20260420T080149
LOCATION:Jugendhaus AREA48734\, Overbergstraße 11\, 48734 Groß Reken
DESCRIPTION:Kreativ mit Holz – Deine eigene Werkstatt mit der Laubsäge!\r\n\r\nDu bist 10 Jahre oder älter und hast Lust\, etwas mit deinen eigenen Händen zu erschaffen? Dann komm in unsere Holzwerkstatt mit Laubsägen!\r\n\r\nHier wird gesägt\, gefeilt\, geschliffen – und am Ende hältst du dein ganz persönliches Kunstwerk aus Holz in den Händen. \r\n\r\nDas erwartet dich:\r\n-Einführung in den sicheren Umgang mit der Laubsäge\r\n-Coole Vorlagen: Tiere\, Schriftzüge\, Deko\, Schlüsselanhänger oder Fantasiefiguren\r\n-Tipps & Tricks von Profi Eva (pädagogische Fachkraft im Jugendwerk Reken und zusätzlich ausgebildete Tischlerin)\r\n-Schleifen\, Bemalen und Verzieren deiner Werke\r\n-Raum für deine eigenen Ideen!\r\n\r\nWas du lernst:\r\n-Genaues Arbeiten und Geduld\r\n-Kreatives Gestalten\r\n-Handwerkliche Grundtechniken\r\n-Stolz auf dein eigenes Projekt sein\r\n\r\nEgal\, ob du Anfänger*in bist oder schon erste Werkstatt-Erfahrung hast – hier ist Platz für alle kreativen Köpfe!\r\n\r\nAm Ende nimmst du mindestens ein fertiges Werkstück mit nach Hause – vielleicht sogar dein neues Lieblingsstück!\r\n\r\nMach mit und entdecke\, was in dir steckt – wir freuen uns auf dich! 
URL;VALUE=URI:https://www.unser-ferienprogramm.de/reken/veranstaltung.php?id=303932
SUMMARY:Holzwerkstatt
DTSTART;TZID=Europe/Berlin:20260409T100000
END:VEVENT


BEGIN:VEVENT
DTEND;TZID=Europe/Berlin:20260410T130000
UID:69e5c14d46c1b2
DTSTAMP:20260420T080149
LOCATION:Jugendhaus AREA48734\, Overbergstraße 11\, 48734 Groß Reken
DESCRIPTION:Kreativ mit Holz – Deine eigene Werkstatt mit der Laubsäge!\r\n\r\nDu bist 10 Jahre oder älter und hast Lust\, etwas mit deinen eigenen Händen zu erschaffen? Dann komm in unsere Holzwerkstatt mit Laubsägen!\r\n\r\nHier wird gesägt\, gefeilt\, geschliffen – und am Ende hältst du dein ganz persönliches Kunstwerk aus Holz in den Händen. \r\n\r\nDas erwartet dich:\r\n-Einführung in den sicheren Umgang mit der Laubsäge\r\n-Coole Vorlagen: Tiere\, Schriftzüge\, Deko\, Schlüsselanhänger oder Fantasiefiguren\r\n-Tipps & Tricks von Profi Eva (pädagogische Fachkraft im Jugendwerk Reken und zusätzlich ausgebildete Tischlerin)\r\n-Schleifen\, Bemalen und Verzieren deiner Werke\r\n-Raum für deine eigenen Ideen!\r\n\r\nWas du lernst:\r\n-Genaues Arbeiten und Geduld\r\n-Kreatives Gestalten\r\n-Handwerkliche Grundtechniken\r\n-Stolz auf dein eigenes Projekt sein\r\n\r\nEgal\, ob du Anfänger*in bist oder schon erste Werkstatt-Erfahrung hast – hier ist Platz für alle kreativen Köpfe!\r\n\r\nAm Ende nimmst du mindestens ein fertiges Werkstück mit nach Hause – vielleicht sogar dein neues Lieblingsstück!\r\n\r\nMach mit und entdecke\, was in dir steckt – wir freuen uns auf dich! 
URL;VALUE=URI:https://www.unser-ferienprogramm.de/reken/veranstaltung.php?id=303932
SUMMARY:Holzwerkstatt
DTSTART;TZID=Europe/Berlin:20260410T100000
END:VEVENT

END:VCALENDAR
