BEGIN:VCALENDAR
VERSION:2.0
PRODID:-//hacksw/handcal//NONSGML v1.0//EN
CALSCALE:GREGORIAN
BEGIN:VTIMEZONE
TZID:Europe/Berlin
X-LIC-LOCATION:Europe/Berlin
BEGIN:DAYLIGHT
TZOFFSETFROM:+0100
TZOFFSETTO:+0200
TZNAME:CEST
DTSTART:19700329T020000
RRULE:FREQ=YEARLY;BYDAY=-1SU;BYMONTH=3
END:DAYLIGHT
BEGIN:STANDARD
TZOFFSETFROM:+0200
TZOFFSETTO:+0100
TZNAME:CET
DTSTART:19701025T030000
RRULE:FREQ=YEARLY;BYDAY=-1SU;BYMONTH=10
END:STANDARD
END:VTIMEZONE
BEGIN:VEVENT
DTEND;TZID=Europe/Berlin:20260417T190000
UID:69e5c1ed79cc0
DTSTAMP:20260420T080429
LOCATION:Jugendhaus AREA48734\, Overbergstraße 11\, 48734 Groß Reken
DESCRIPTION:Manga-Acryl auf Leinwand – Kreative Kunst für junge Anime-Fans (10–14 Jahre)\r\n\r\nBringe Farbe\, Fantasie und japanischen Style in Dein Zimmer! Unsere handgemalten Manga-Acrylbilder auf Leinwand sind speziell für Kinder und Jugendliche von 10 bis 14 Jahren gestaltet. Inspiriert vom beliebten Zeichenstil aus Japan entstehen einzigartige Motive voller Ausdruck\, Abenteuer und Emotionen. Der Workshop wird von der professionellen Manga-Künstlerin Alexandra Völker geleitet.\r\n\r\nWas macht unsere Leinwände besonders?\r\n-Handgemalte Acrylkunst auf hochwertiger Leinwand\r\n-Leuchtende\, langlebige Farben\r\n-Kindgerechte\, altersgerechte Motive\r\n\r\nFördert Kreativität & Individualität\r\nManga-Kunst regt die Fantasie an und motiviert junge Menschen\, selbst kreativ zu werden. Die ausdrucksstarken Figuren und farbenfrohen Designs schaffen eine inspirierende Umgebung zum Träumen\, Lernen und Wachsen.
URL;VALUE=URI:https://www.unser-ferienprogramm.de/reken/veranstaltung.php?id=303712
SUMMARY:MANGA-Acryl auf Leinwänden
DTSTART;TZID=Europe/Berlin:20260417T150000
END:VEVENT

END:VCALENDAR
