BEGIN:VCALENDAR
VERSION:2.0
PRODID:-//hacksw/handcal//NONSGML v1.0//EN
CALSCALE:GREGORIAN
BEGIN:VTIMEZONE
TZID:Europe/Berlin
X-LIC-LOCATION:Europe/Berlin
BEGIN:DAYLIGHT
TZOFFSETFROM:+0100
TZOFFSETTO:+0200
TZNAME:CEST
DTSTART:19700329T020000
RRULE:FREQ=YEARLY;BYDAY=-1SU;BYMONTH=3
END:DAYLIGHT
BEGIN:STANDARD
TZOFFSETFROM:+0200
TZOFFSETTO:+0100
TZNAME:CET
DTSTART:19701025T030000
RRULE:FREQ=YEARLY;BYDAY=-1SU;BYMONTH=10
END:STANDARD
END:VTIMEZONE
BEGIN:VEVENT
DTEND;TZID=Europe/Berlin:20260408T171500
UID:69e5bf1da54fb
DTSTAMP:20260420T075229
LOCATION:AquaMagis Plettenberg\, Böddinghauser Feld 1\, 58840 Plettenberg
DESCRIPTION:In Kooperation mit dem Kinder- und Jugendtreff "JuCa" in Hochmoor besuchen wir das Erlebnisbad AquaMagis in Plettenberg. Teilnehmende ab 10 Jahren erwartet dort jede Menge Wasserspaß mit actionreichen Rutschen\, Wellenbad und weiteren Attraktionen. Der Ausflug bietet Bewegung\, Spaß und ein tolles Gemeinschaftserlebnis-ein echtes Highlight in der Ferienfreizeit!
URL;VALUE=URI:https://www.unser-ferienprogramm.de/reken/veranstaltung.php?id=303567
SUMMARY:Ausflug ins AquaMagis nach Plettenberg
DTSTART;TZID=Europe/Berlin:20260408T074500
END:VEVENT

END:VCALENDAR
