BEGIN:VCALENDAR
VERSION:2.0
PRODID:-//hacksw/handcal//NONSGML v1.0//EN
CALSCALE:GREGORIAN
BEGIN:VTIMEZONE
TZID:Europe/Berlin
X-LIC-LOCATION:Europe/Berlin
BEGIN:DAYLIGHT
TZOFFSETFROM:+0100
TZOFFSETTO:+0200
TZNAME:CEST
DTSTART:19700329T020000
RRULE:FREQ=YEARLY;BYDAY=-1SU;BYMONTH=3
END:DAYLIGHT
BEGIN:STANDARD
TZOFFSETFROM:+0200
TZOFFSETTO:+0100
TZNAME:CET
DTSTART:19701025T030000
RRULE:FREQ=YEARLY;BYDAY=-1SU;BYMONTH=10
END:STANDARD
END:VTIMEZONE
BEGIN:VEVENT
DTEND;TZID=Europe/Berlin:20260209T180000
UID:69e5bd058c152
DTSTAMP:20260420T074333
LOCATION:Jugendhaus AREA48734 - Overbergstr. 11
DESCRIPTION:Karneval gehört zu den buntesten und fröhlichsten Festen des Jahres – und dieses Jahr feiern wir ihn zusammen mit euch! \r\n\r\nDas AREA48734 ist der perfekte Ort\, um mit Freunden zu feiern und die Karnevalstradition aufleben zu lassen!\r\n\r\nWas erwartet euch?\r\nKreative Kostümideen: Die DREI beliebtesten Kostüme gewinnen den Kostüm-WETTBEWERB und bekommen einen PREIS!!!\r\n    \r\nTolle Musik\, Tanz und eine große Polonaise durch den Raum\r\n   \r\nSpiele und Spaß für alle – von lustigen Karnevalsquizzen bis zu aufregenden Gruppenspielen\r\n    \r\nLeckere Snacks und Karnevalsüberraschungen\r\n\r\nKommt vorbei\, feiert mit uns und lasst euch von der guten Laune mitreißen!\r\nEs wird ein unvergesslicher Nachmittag voller Lachen\, Spaß und Karnevalszauber.\r\n\r\nWir freuen uns auf euch!
URL;VALUE=URI:https://www.unser-ferienprogramm.de/reken/veranstaltung.php?id=300426
SUMMARY:Kinderkarneval im AREA
DTSTART;TZID=Europe/Berlin:20260209T150000
END:VEVENT

END:VCALENDAR
