BEGIN:VCALENDAR
VERSION:2.0
PRODID:-//hacksw/handcal//NONSGML v1.0//EN
CALSCALE:GREGORIAN
BEGIN:VTIMEZONE
TZID:Europe/Berlin
X-LIC-LOCATION:Europe/Berlin
BEGIN:DAYLIGHT
TZOFFSETFROM:+0100
TZOFFSETTO:+0200
TZNAME:CEST
DTSTART:19700329T020000
RRULE:FREQ=YEARLY;BYDAY=-1SU;BYMONTH=3
END:DAYLIGHT
BEGIN:STANDARD
TZOFFSETFROM:+0200
TZOFFSETTO:+0100
TZNAME:CET
DTSTART:19701025T030000
RRULE:FREQ=YEARLY;BYDAY=-1SU;BYMONTH=10
END:STANDARD
END:VTIMEZONE
BEGIN:VEVENT
DTEND;TZID=Europe/Berlin:20260112T190000
UID:69e5c1c970e35
DTSTAMP:20260420T080353
LOCATION:Farbenstolz\, Heilig-Geist-Straße 22\, 46325 Borken
DESCRIPTION:"Der Kulturrucksack NRW und das Jugendwerk lädt euch bei Farbenstolz in Borken zu einem farbenfrohen Kreativprojekt ein: Keramik bemalen und gestalten!\r\n\r\nIn diesem Workshop entdecken die Teilnehmenden die Welt der Keramikkunst. Nach einer kurzen Einführung in verschiedene Maltechniken\, Farben und Gestaltungsmöglichkeiten können sie ihr persönliches Keramikstück – z. B. Tasse\, Schale\, Figur oder Teller – frei nach eigenen Ideen bemalen. Egal ob kunterbunte Muster\, Comic-Motive oder kreative Schriftzüge: Der Fantasie sind keine Grenzen gesetzt.\r\n\r\nUnter fachkundiger Anleitung entstehen individuelle Einzelstücke\, die nach dem Glasieren und Brennen zu echten Unikaten werden und später selbstverständlich mit nach Hause genommen werden dürfen.\r\n\r\nWas die Teilnehmenden erwartet:\r\n\r\nEinführung in Keramik- und Farbtechniken\r\n\r\nKreatives Bemalen mit hochwertigen Farben\r\n\r\nUnterstützung durch erfahrene Kursleitung\r\n\r\nGlasur und Brennen des Kunstwerks\r\n\r\nEin persönliches Keramik-Unikat als Erinnerung"\r\n
URL;VALUE=URI:https://www.unser-ferienprogramm.de/reken/veranstaltung.php?id=297310
SUMMARY:KULTURRUCKSACK Keramik bemalen
DTSTART;TZID=Europe/Berlin:20260112T160000
END:VEVENT

END:VCALENDAR
