BEGIN:VCALENDAR
VERSION:2.0
PRODID:-//hacksw/handcal//NONSGML v1.0//EN
CALSCALE:GREGORIAN
BEGIN:VTIMEZONE
TZID:Europe/Berlin
X-LIC-LOCATION:Europe/Berlin
BEGIN:DAYLIGHT
TZOFFSETFROM:+0100
TZOFFSETTO:+0200
TZNAME:CEST
DTSTART:19700329T020000
RRULE:FREQ=YEARLY;BYDAY=-1SU;BYMONTH=3
END:DAYLIGHT
BEGIN:STANDARD
TZOFFSETFROM:+0200
TZOFFSETTO:+0100
TZNAME:CET
DTSTART:19701025T030000
RRULE:FREQ=YEARLY;BYDAY=-1SU;BYMONTH=10
END:STANDARD
END:VTIMEZONE
BEGIN:VEVENT
DTEND;TZID=Europe/Berlin:20260722T121500
UID:69ed566aca882
DTSTAMP:20260426T020354
LOCATION:Hamburg Dungeon
DESCRIPTION:Das Hamburg Dungeon ist eine einzigartige und spannende Attraktion\, die dich in Hamburgs dunkle Vergangenheit entführt. Wahre Geschichten und düstere Gestalten erwecken die schlechte alte Zeit zum Leben. Und du mittendrin. Wirst du dich totlachen oder Todesangst haben? So oder so\, pack lieber noch ne neue Unnerbüx ein...\r\n\r\nEine Reise durch über 600 Jahre grauenhafter Hamburger Geschichte\r\n
URL;VALUE=URI:https://www.unser-ferienprogramm.de/reinbek/veranstaltung.php?id=313872
SUMMARY:Hamburg Dungeon
DTSTART;TZID=Europe/Berlin:20260722T121500
END:VEVENT

END:VCALENDAR
