BEGIN:VCALENDAR
VERSION:2.0
PRODID:-//hacksw/handcal//NONSGML v1.0//EN
CALSCALE:GREGORIAN
BEGIN:VTIMEZONE
TZID:Europe/Berlin
X-LIC-LOCATION:Europe/Berlin
BEGIN:DAYLIGHT
TZOFFSETFROM:+0100
TZOFFSETTO:+0200
TZNAME:CEST
DTSTART:19700329T020000
RRULE:FREQ=YEARLY;BYDAY=-1SU;BYMONTH=3
END:DAYLIGHT
BEGIN:STANDARD
TZOFFSETFROM:+0200
TZOFFSETTO:+0100
TZNAME:CET
DTSTART:19701025T030000
RRULE:FREQ=YEARLY;BYDAY=-1SU;BYMONTH=10
END:STANDARD
END:VTIMEZONE
BEGIN:VEVENT
DTEND;TZID=Europe/Berlin:20260819T000000
UID:69ed568fdb8db
DTSTAMP:20260426T020431
LOCATION:Vierlandenstr. 13\, 21029 Hamburg
DESCRIPTION:Mit uns gibt es keine Langeweile in den Ferien! Im Lieblingsstück kann jeder sein ganz persönliches Keramikstück bemalen. Mit kinderleichten Techniken könnt ihr malen\, tupfen\, kratzen\, stempeln und vieles mehr.\r\nReserviert euch einfach für eure Familie einen Tisch und verbringt eine tolle Zeit. Kinder mit Ferienpass oder Schülerausweis\, Schülerfahrkarte etc. bekommen in den Sommerferien 10% Rabatt auf ihr selbstbemaltes Keramikstück.\r\nWir freuen uns auf euch!\r\n
URL;VALUE=URI:https://www.unser-ferienprogramm.de/reinbek/veranstaltung.php?id=308572
SUMMARY:Keramik bemalen mit 10% Sommerferien-Rabatt für Schüler
DTSTART;TZID=Europe/Berlin:20260706T000000
END:VEVENT

END:VCALENDAR
