BEGIN:VCALENDAR
VERSION:2.0
PRODID:-//hacksw/handcal//NONSGML v1.0//EN
CALSCALE:GREGORIAN
BEGIN:VTIMEZONE
TZID:Europe/Berlin
X-LIC-LOCATION:Europe/Berlin
BEGIN:DAYLIGHT
TZOFFSETFROM:+0100
TZOFFSETTO:+0200
TZNAME:CEST
DTSTART:19700329T020000
RRULE:FREQ=YEARLY;BYDAY=-1SU;BYMONTH=3
END:DAYLIGHT
BEGIN:STANDARD
TZOFFSETFROM:+0200
TZOFFSETTO:+0100
TZNAME:CET
DTSTART:19701025T030000
RRULE:FREQ=YEARLY;BYDAY=-1SU;BYMONTH=10
END:STANDARD
END:VTIMEZONE
BEGIN:VEVENT
DTEND;TZID=Europe/Berlin:20260709T120000
UID:69ed561d9bb53
DTSTAMP:20260426T020237
LOCATION:Vierlandenstr. 13\, 21029 Hamburg-Bergedorf
DESCRIPTION:Im Malcafé Lieblingsstück kannst du kreativ sein und dein eigenes Keramikstück bemalen: Du hast die Wahl zwischen einem Teller\, Becher oder einer Müslischale. Die Keramikstücke sind vorgebrannt und können nach Lust und Laune bemalt\, bestempelt\, betupft und beschrieben werden. Nachdem dein neues Lieblingsstück von uns gebrannt wurde\, ist es spülmaschinengeeignet und fit für das tägliche Frühstück! Dein fertig gebranntes Keramikstück kann ab 7 Tage nach dem Kurs abgeholt werden.
URL;VALUE=URI:https://www.unser-ferienprogramm.de/reinbek/veranstaltung.php?id=308566
SUMMARY:Keramik selbst bemalen in Bergedorf
DTSTART;TZID=Europe/Berlin:20260709T100000
END:VEVENT

END:VCALENDAR
