BEGIN:VCALENDAR
VERSION:2.0
PRODID:-//hacksw/handcal//NONSGML v1.0//EN
CALSCALE:GREGORIAN
BEGIN:VTIMEZONE
TZID:Europe/Berlin
X-LIC-LOCATION:Europe/Berlin
BEGIN:DAYLIGHT
TZOFFSETFROM:+0100
TZOFFSETTO:+0200
TZNAME:CEST
DTSTART:19700329T020000
RRULE:FREQ=YEARLY;BYDAY=-1SU;BYMONTH=3
END:DAYLIGHT
BEGIN:STANDARD
TZOFFSETFROM:+0200
TZOFFSETTO:+0100
TZNAME:CET
DTSTART:19701025T030000
RRULE:FREQ=YEARLY;BYDAY=-1SU;BYMONTH=10
END:STANDARD
END:VTIMEZONE
BEGIN:VEVENT
DTEND;TZID=Europe/Berlin:20260803T000000
UID:69ed6931d8244
DTSTAMP:20260426T032401
LOCATION:Grabau
DESCRIPTION:Tagsüber ist der Wald voller Licht und Leben. Und nachts? Traust du dich\, auch im Dunkeln auf den Spuren der nachtaktiven Tiere zu wandeln?\r\n\r\nAnmelden können sich Kinder im Alter zwischen 8 und 12 Jahren in Begleitung eines Erwachsenen (mehrere Geschwisterkinder oder befreundete Kinder können dabei von einem Erwachsenen begleitet werden).\r\nDas gesamte Ferienprogramm und alle Informationen zur Anmeldung\r\nfinden sich auf der Internetseite des Naturerlebnis Grabau.\r\n\r\nDie Anmeldung läuft über unsere Homepage (https://www.naturerlebnis-grabau.de/).
URL;VALUE=URI:https://www.unser-ferienprogramm.de/reinbek/veranstaltung.php?id=308197
SUMMARY:Nachtschicht im Wald
DTSTART;TZID=Europe/Berlin:20260803T000000
END:VEVENT


BEGIN:VEVENT
DTEND;TZID=Europe/Berlin:20260804T000000
UID:69ed6931d82871
DTSTAMP:20260426T032401
LOCATION:Grabau
DESCRIPTION:Tagsüber ist der Wald voller Licht und Leben. Und nachts? Traust du dich\, auch im Dunkeln auf den Spuren der nachtaktiven Tiere zu wandeln?\r\n\r\nAnmelden können sich Kinder im Alter zwischen 8 und 12 Jahren in Begleitung eines Erwachsenen (mehrere Geschwisterkinder oder befreundete Kinder können dabei von einem Erwachsenen begleitet werden).\r\nDas gesamte Ferienprogramm und alle Informationen zur Anmeldung\r\nfinden sich auf der Internetseite des Naturerlebnis Grabau.\r\n\r\nDie Anmeldung läuft über unsere Homepage (https://www.naturerlebnis-grabau.de/).
URL;VALUE=URI:https://www.unser-ferienprogramm.de/reinbek/veranstaltung.php?id=308197
SUMMARY:Nachtschicht im Wald
DTSTART;TZID=Europe/Berlin:20260804T000000
END:VEVENT


BEGIN:VEVENT
DTEND;TZID=Europe/Berlin:20260810T000000
UID:69ed6931d82942
DTSTAMP:20260426T032401
LOCATION:Grabau
DESCRIPTION:Tagsüber ist der Wald voller Licht und Leben. Und nachts? Traust du dich\, auch im Dunkeln auf den Spuren der nachtaktiven Tiere zu wandeln?\r\n\r\nAnmelden können sich Kinder im Alter zwischen 8 und 12 Jahren in Begleitung eines Erwachsenen (mehrere Geschwisterkinder oder befreundete Kinder können dabei von einem Erwachsenen begleitet werden).\r\nDas gesamte Ferienprogramm und alle Informationen zur Anmeldung\r\nfinden sich auf der Internetseite des Naturerlebnis Grabau.\r\n\r\nDie Anmeldung läuft über unsere Homepage (https://www.naturerlebnis-grabau.de/).
URL;VALUE=URI:https://www.unser-ferienprogramm.de/reinbek/veranstaltung.php?id=308197
SUMMARY:Nachtschicht im Wald
DTSTART;TZID=Europe/Berlin:20260810T000000
END:VEVENT


BEGIN:VEVENT
DTEND;TZID=Europe/Berlin:20260811T000000
UID:69ed6931d829f3
DTSTAMP:20260426T032401
LOCATION:Grabau
DESCRIPTION:Tagsüber ist der Wald voller Licht und Leben. Und nachts? Traust du dich\, auch im Dunkeln auf den Spuren der nachtaktiven Tiere zu wandeln?\r\n\r\nAnmelden können sich Kinder im Alter zwischen 8 und 12 Jahren in Begleitung eines Erwachsenen (mehrere Geschwisterkinder oder befreundete Kinder können dabei von einem Erwachsenen begleitet werden).\r\nDas gesamte Ferienprogramm und alle Informationen zur Anmeldung\r\nfinden sich auf der Internetseite des Naturerlebnis Grabau.\r\n\r\nDie Anmeldung läuft über unsere Homepage (https://www.naturerlebnis-grabau.de/).
URL;VALUE=URI:https://www.unser-ferienprogramm.de/reinbek/veranstaltung.php?id=308197
SUMMARY:Nachtschicht im Wald
DTSTART;TZID=Europe/Berlin:20260811T000000
END:VEVENT

END:VCALENDAR
