BEGIN:VCALENDAR
VERSION:2.0
PRODID:-//hacksw/handcal//NONSGML v1.0//EN
CALSCALE:GREGORIAN
BEGIN:VTIMEZONE
TZID:Europe/Berlin
X-LIC-LOCATION:Europe/Berlin
BEGIN:DAYLIGHT
TZOFFSETFROM:+0100
TZOFFSETTO:+0200
TZNAME:CEST
DTSTART:19700329T020000
RRULE:FREQ=YEARLY;BYDAY=-1SU;BYMONTH=3
END:DAYLIGHT
BEGIN:STANDARD
TZOFFSETFROM:+0200
TZOFFSETTO:+0100
TZNAME:CET
DTSTART:19701025T030000
RRULE:FREQ=YEARLY;BYDAY=-1SU;BYMONTH=10
END:STANDARD
END:VTIMEZONE
BEGIN:VEVENT
DTEND;TZID=Europe/Berlin:20260730T000000
UID:69ed566a5598a
DTSTAMP:20260426T020354
LOCATION:Grabau
DESCRIPTION:Mit Schere und Co. wollen wir es uns gemütlich machen und etwas Schönes in und mit der Natur basteln. Lasst euch überraschen! \r\n\r\nAnmelden können sich Kinder im Alter zwischen 6 und 10 Jahren in Begleitung eines Erwachsenen (mehrere Geschwisterkinder oder befreundete Kinder können dabei von einem Erwachsenen begleitet werden).\r\nDas gesamte Ferienprogramm und alle Informationen zur Anmeldung\r\nfinden sich auf der Internetseite des Naturerlebnis Grabau.\r\n\r\nDie Anmeldung läuft über unsere Homepage (https://www.naturerlebnis-grabau.de/).
URL;VALUE=URI:https://www.unser-ferienprogramm.de/reinbek/veranstaltung.php?id=308196
SUMMARY:Basteln
DTSTART;TZID=Europe/Berlin:20260730T000000
END:VEVENT


BEGIN:VEVENT
DTEND;TZID=Europe/Berlin:20260731T000000
UID:69ed566a559c51
DTSTAMP:20260426T020354
LOCATION:Grabau
DESCRIPTION:Mit Schere und Co. wollen wir es uns gemütlich machen und etwas Schönes in und mit der Natur basteln. Lasst euch überraschen! \r\n\r\nAnmelden können sich Kinder im Alter zwischen 6 und 10 Jahren in Begleitung eines Erwachsenen (mehrere Geschwisterkinder oder befreundete Kinder können dabei von einem Erwachsenen begleitet werden).\r\nDas gesamte Ferienprogramm und alle Informationen zur Anmeldung\r\nfinden sich auf der Internetseite des Naturerlebnis Grabau.\r\n\r\nDie Anmeldung läuft über unsere Homepage (https://www.naturerlebnis-grabau.de/).
URL;VALUE=URI:https://www.unser-ferienprogramm.de/reinbek/veranstaltung.php?id=308196
SUMMARY:Basteln
DTSTART;TZID=Europe/Berlin:20260731T000000
END:VEVENT


BEGIN:VEVENT
DTEND;TZID=Europe/Berlin:20260806T000000
UID:69ed566a559d22
DTSTAMP:20260426T020354
LOCATION:Grabau
DESCRIPTION:Mit Schere und Co. wollen wir es uns gemütlich machen und etwas Schönes in und mit der Natur basteln. Lasst euch überraschen! \r\n\r\nAnmelden können sich Kinder im Alter zwischen 6 und 10 Jahren in Begleitung eines Erwachsenen (mehrere Geschwisterkinder oder befreundete Kinder können dabei von einem Erwachsenen begleitet werden).\r\nDas gesamte Ferienprogramm und alle Informationen zur Anmeldung\r\nfinden sich auf der Internetseite des Naturerlebnis Grabau.\r\n\r\nDie Anmeldung läuft über unsere Homepage (https://www.naturerlebnis-grabau.de/).
URL;VALUE=URI:https://www.unser-ferienprogramm.de/reinbek/veranstaltung.php?id=308196
SUMMARY:Basteln
DTSTART;TZID=Europe/Berlin:20260806T000000
END:VEVENT

END:VCALENDAR
