BEGIN:VCALENDAR
VERSION:2.0
PRODID:-//hacksw/handcal//NONSGML v1.0//EN
CALSCALE:GREGORIAN
BEGIN:VTIMEZONE
TZID:Europe/Berlin
X-LIC-LOCATION:Europe/Berlin
BEGIN:DAYLIGHT
TZOFFSETFROM:+0100
TZOFFSETTO:+0200
TZNAME:CEST
DTSTART:19700329T020000
RRULE:FREQ=YEARLY;BYDAY=-1SU;BYMONTH=3
END:DAYLIGHT
BEGIN:STANDARD
TZOFFSETFROM:+0200
TZOFFSETTO:+0100
TZNAME:CET
DTSTART:19701025T030000
RRULE:FREQ=YEARLY;BYDAY=-1SU;BYMONTH=10
END:STANDARD
END:VTIMEZONE
BEGIN:VEVENT
DTEND;TZID=Europe/Berlin:20260720T000000
UID:69ed567ea066d
DTSTAMP:20260426T020414
LOCATION:Grabau
DESCRIPTION:Mucks Lieblingsnüsse sind verschwunden. Gestern waren sie noch da\, heute kann Muck sie nicht mehr finden. Muck ist ganz außer sich. Wer im Wald ist so dreist und bestiehlt andere Tiere? Nun ist Detektivarbeit gefragt! Helft Muck den Täter zu überführen und Mucks Nüsse wiederzufinden.\r\n\r\nAnmelden können sich Kinder im Alter zwischen 8 und 12 Jahren in Begleitung eines Erwachsenen (mehrere Geschwisterkinder oder befreundete Kinder können dabei von einem Erwachsenen begleitet werden).\r\nDas gesamte Ferienprogramm und alle Informationen zur Anmeldung\r\nfinden sich auf der Internetseite des Naturerlebnis Grabau.\r\n\r\nDie Anmeldung läuft über unsere Homepage (https://www.naturerlebnis-grabau.de/).
URL;VALUE=URI:https://www.unser-ferienprogramm.de/reinbek/veranstaltung.php?id=308195
SUMMARY:Detektiv-Rallye: Mucks Nüsse sind verschwunden
DTSTART;TZID=Europe/Berlin:20260720T000000
END:VEVENT


BEGIN:VEVENT
DTEND;TZID=Europe/Berlin:20260721T000000
UID:69ed567ea06ae1
DTSTAMP:20260426T020414
LOCATION:Grabau
DESCRIPTION:Mucks Lieblingsnüsse sind verschwunden. Gestern waren sie noch da\, heute kann Muck sie nicht mehr finden. Muck ist ganz außer sich. Wer im Wald ist so dreist und bestiehlt andere Tiere? Nun ist Detektivarbeit gefragt! Helft Muck den Täter zu überführen und Mucks Nüsse wiederzufinden.\r\n\r\nAnmelden können sich Kinder im Alter zwischen 8 und 12 Jahren in Begleitung eines Erwachsenen (mehrere Geschwisterkinder oder befreundete Kinder können dabei von einem Erwachsenen begleitet werden).\r\nDas gesamte Ferienprogramm und alle Informationen zur Anmeldung\r\nfinden sich auf der Internetseite des Naturerlebnis Grabau.\r\n\r\nDie Anmeldung läuft über unsere Homepage (https://www.naturerlebnis-grabau.de/).
URL;VALUE=URI:https://www.unser-ferienprogramm.de/reinbek/veranstaltung.php?id=308195
SUMMARY:Detektiv-Rallye: Mucks Nüsse sind verschwunden
DTSTART;TZID=Europe/Berlin:20260721T000000
END:VEVENT


BEGIN:VEVENT
DTEND;TZID=Europe/Berlin:20260723T000000
UID:69ed567ea06bd2
DTSTAMP:20260426T020414
LOCATION:Grabau
DESCRIPTION:Mucks Lieblingsnüsse sind verschwunden. Gestern waren sie noch da\, heute kann Muck sie nicht mehr finden. Muck ist ganz außer sich. Wer im Wald ist so dreist und bestiehlt andere Tiere? Nun ist Detektivarbeit gefragt! Helft Muck den Täter zu überführen und Mucks Nüsse wiederzufinden.\r\n\r\nAnmelden können sich Kinder im Alter zwischen 8 und 12 Jahren in Begleitung eines Erwachsenen (mehrere Geschwisterkinder oder befreundete Kinder können dabei von einem Erwachsenen begleitet werden).\r\nDas gesamte Ferienprogramm und alle Informationen zur Anmeldung\r\nfinden sich auf der Internetseite des Naturerlebnis Grabau.\r\n\r\nDie Anmeldung läuft über unsere Homepage (https://www.naturerlebnis-grabau.de/).
URL;VALUE=URI:https://www.unser-ferienprogramm.de/reinbek/veranstaltung.php?id=308195
SUMMARY:Detektiv-Rallye: Mucks Nüsse sind verschwunden
DTSTART;TZID=Europe/Berlin:20260723T000000
END:VEVENT


BEGIN:VEVENT
DTEND;TZID=Europe/Berlin:20260724T000000
UID:69ed567ea06c93
DTSTAMP:20260426T020414
LOCATION:Grabau
DESCRIPTION:Mucks Lieblingsnüsse sind verschwunden. Gestern waren sie noch da\, heute kann Muck sie nicht mehr finden. Muck ist ganz außer sich. Wer im Wald ist so dreist und bestiehlt andere Tiere? Nun ist Detektivarbeit gefragt! Helft Muck den Täter zu überführen und Mucks Nüsse wiederzufinden.\r\n\r\nAnmelden können sich Kinder im Alter zwischen 8 und 12 Jahren in Begleitung eines Erwachsenen (mehrere Geschwisterkinder oder befreundete Kinder können dabei von einem Erwachsenen begleitet werden).\r\nDas gesamte Ferienprogramm und alle Informationen zur Anmeldung\r\nfinden sich auf der Internetseite des Naturerlebnis Grabau.\r\n\r\nDie Anmeldung läuft über unsere Homepage (https://www.naturerlebnis-grabau.de/).
URL;VALUE=URI:https://www.unser-ferienprogramm.de/reinbek/veranstaltung.php?id=308195
SUMMARY:Detektiv-Rallye: Mucks Nüsse sind verschwunden
DTSTART;TZID=Europe/Berlin:20260724T000000
END:VEVENT

END:VCALENDAR
