BEGIN:VCALENDAR
VERSION:2.0
PRODID:-//hacksw/handcal//NONSGML v1.0//EN
CALSCALE:GREGORIAN
BEGIN:VTIMEZONE
TZID:Europe/Berlin
X-LIC-LOCATION:Europe/Berlin
BEGIN:DAYLIGHT
TZOFFSETFROM:+0100
TZOFFSETTO:+0200
TZNAME:CEST
DTSTART:19700329T020000
RRULE:FREQ=YEARLY;BYDAY=-1SU;BYMONTH=3
END:DAYLIGHT
BEGIN:STANDARD
TZOFFSETFROM:+0200
TZOFFSETTO:+0100
TZNAME:CET
DTSTART:19701025T030000
RRULE:FREQ=YEARLY;BYDAY=-1SU;BYMONTH=10
END:STANDARD
END:VTIMEZONE
BEGIN:VEVENT
DTEND;TZID=Europe/Berlin:20260709T000000
UID:69ed568070daa
DTSTAMP:20260426T020416
LOCATION:Grabau
DESCRIPTION:Von der Blüte bis ins Glas – wie entsteht Honig und wieviel Arbeit steckt dahinter? Wer summt außer unserer Honigbiene noch von Blüte zu Blüte? Und was können wir den fleißigen Sammlern Gutes tun? Kommt vorbei und findet es heraus!\r\n\r\nAnmelden können sich Kinder im Alter zwischen 6 und 12 Jahren in Begleitung eines Erwachsenen (mehrere Geschwisterkinder oder befreundete Kinder können dabei von einem Erwachsenen begleitet werden).\r\nDas gesamte Ferienprogramm und alle Informationen zur Anmeldung\r\nfinden sich auf der Internetseite des Naturerlebnis Grabau.\r\n\r\nDie Anmeldung läuft über unsere Homepage (https://www.naturerlebnis-grabau.de/).\r\n
URL;VALUE=URI:https://www.unser-ferienprogramm.de/reinbek/veranstaltung.php?id=308193
SUMMARY:Flotte Biene
DTSTART;TZID=Europe/Berlin:20260709T000000
END:VEVENT


BEGIN:VEVENT
DTEND;TZID=Europe/Berlin:20260710T000000
UID:69ed568070ddb1
DTSTAMP:20260426T020416
LOCATION:Grabau
DESCRIPTION:Von der Blüte bis ins Glas – wie entsteht Honig und wieviel Arbeit steckt dahinter? Wer summt außer unserer Honigbiene noch von Blüte zu Blüte? Und was können wir den fleißigen Sammlern Gutes tun? Kommt vorbei und findet es heraus!\r\n\r\nAnmelden können sich Kinder im Alter zwischen 6 und 12 Jahren in Begleitung eines Erwachsenen (mehrere Geschwisterkinder oder befreundete Kinder können dabei von einem Erwachsenen begleitet werden).\r\nDas gesamte Ferienprogramm und alle Informationen zur Anmeldung\r\nfinden sich auf der Internetseite des Naturerlebnis Grabau.\r\n\r\nDie Anmeldung läuft über unsere Homepage (https://www.naturerlebnis-grabau.de/).\r\n
URL;VALUE=URI:https://www.unser-ferienprogramm.de/reinbek/veranstaltung.php?id=308193
SUMMARY:Flotte Biene
DTSTART;TZID=Europe/Berlin:20260710T000000
END:VEVENT


BEGIN:VEVENT
DTEND;TZID=Europe/Berlin:20260713T000000
UID:69ed568070de82
DTSTAMP:20260426T020416
LOCATION:Grabau
DESCRIPTION:Von der Blüte bis ins Glas – wie entsteht Honig und wieviel Arbeit steckt dahinter? Wer summt außer unserer Honigbiene noch von Blüte zu Blüte? Und was können wir den fleißigen Sammlern Gutes tun? Kommt vorbei und findet es heraus!\r\n\r\nAnmelden können sich Kinder im Alter zwischen 6 und 12 Jahren in Begleitung eines Erwachsenen (mehrere Geschwisterkinder oder befreundete Kinder können dabei von einem Erwachsenen begleitet werden).\r\nDas gesamte Ferienprogramm und alle Informationen zur Anmeldung\r\nfinden sich auf der Internetseite des Naturerlebnis Grabau.\r\n\r\nDie Anmeldung läuft über unsere Homepage (https://www.naturerlebnis-grabau.de/).\r\n
URL;VALUE=URI:https://www.unser-ferienprogramm.de/reinbek/veranstaltung.php?id=308193
SUMMARY:Flotte Biene
DTSTART;TZID=Europe/Berlin:20260713T000000
END:VEVENT


BEGIN:VEVENT
DTEND;TZID=Europe/Berlin:20260714T000000
UID:69ed568070df23
DTSTAMP:20260426T020416
LOCATION:Grabau
DESCRIPTION:Von der Blüte bis ins Glas – wie entsteht Honig und wieviel Arbeit steckt dahinter? Wer summt außer unserer Honigbiene noch von Blüte zu Blüte? Und was können wir den fleißigen Sammlern Gutes tun? Kommt vorbei und findet es heraus!\r\n\r\nAnmelden können sich Kinder im Alter zwischen 6 und 12 Jahren in Begleitung eines Erwachsenen (mehrere Geschwisterkinder oder befreundete Kinder können dabei von einem Erwachsenen begleitet werden).\r\nDas gesamte Ferienprogramm und alle Informationen zur Anmeldung\r\nfinden sich auf der Internetseite des Naturerlebnis Grabau.\r\n\r\nDie Anmeldung läuft über unsere Homepage (https://www.naturerlebnis-grabau.de/).\r\n
URL;VALUE=URI:https://www.unser-ferienprogramm.de/reinbek/veranstaltung.php?id=308193
SUMMARY:Flotte Biene
DTSTART;TZID=Europe/Berlin:20260714T000000
END:VEVENT

END:VCALENDAR
