BEGIN:VCALENDAR
VERSION:2.0
PRODID:-//hacksw/handcal//NONSGML v1.0//EN
CALSCALE:GREGORIAN
BEGIN:VTIMEZONE
TZID:Europe/Berlin
X-LIC-LOCATION:Europe/Berlin
BEGIN:DAYLIGHT
TZOFFSETFROM:+0100
TZOFFSETTO:+0200
TZNAME:CEST
DTSTART:19700329T020000
RRULE:FREQ=YEARLY;BYDAY=-1SU;BYMONTH=3
END:DAYLIGHT
BEGIN:STANDARD
TZOFFSETFROM:+0200
TZOFFSETTO:+0100
TZNAME:CET
DTSTART:19701025T030000
RRULE:FREQ=YEARLY;BYDAY=-1SU;BYMONTH=10
END:STANDARD
END:VTIMEZONE
BEGIN:VEVENT
DTEND;TZID=Europe/Berlin:20260706T000000
UID:69ed566b349ea
DTSTAMP:20260426T020355
LOCATION:Grabau
DESCRIPTION:Hast du dich schon mal gefragt\, was unter der Wasseroberfläche los ist? Wer dort auf der Lauer liegt und wer elegant durchs Wasser gleitet? Gemeinsam erkunden wir\, was sich im und ums Gewässer tummelt.\r\n\r\nAnmelden können sich Kinder im Alter zwischen 6 und 12 Jahren in Begleitung eines Erwachsenen (mehrere Geschwisterkinder oder befreundete Kinder können dabei von einem Erwachsenen begleitet werden).\r\nDas gesamte Ferienprogramm und alle Informationen zur Anmeldung\r\nfinden sich auf der Internetseite des Naturerlebnis Grabau.\r\n\r\nDie Anmeldung läuft über unsere Homepage (https://www.naturerlebnis-grabau.de/).\r\n
URL;VALUE=URI:https://www.unser-ferienprogramm.de/reinbek/veranstaltung.php?id=308192
SUMMARY:Wildes Wasserleben
DTSTART;TZID=Europe/Berlin:20260706T000000
END:VEVENT


BEGIN:VEVENT
DTEND;TZID=Europe/Berlin:20260707T000000
UID:69ed566b34a241
DTSTAMP:20260426T020355
LOCATION:Grabau
DESCRIPTION:Hast du dich schon mal gefragt\, was unter der Wasseroberfläche los ist? Wer dort auf der Lauer liegt und wer elegant durchs Wasser gleitet? Gemeinsam erkunden wir\, was sich im und ums Gewässer tummelt.\r\n\r\nAnmelden können sich Kinder im Alter zwischen 6 und 12 Jahren in Begleitung eines Erwachsenen (mehrere Geschwisterkinder oder befreundete Kinder können dabei von einem Erwachsenen begleitet werden).\r\nDas gesamte Ferienprogramm und alle Informationen zur Anmeldung\r\nfinden sich auf der Internetseite des Naturerlebnis Grabau.\r\n\r\nDie Anmeldung läuft über unsere Homepage (https://www.naturerlebnis-grabau.de/).\r\n
URL;VALUE=URI:https://www.unser-ferienprogramm.de/reinbek/veranstaltung.php?id=308192
SUMMARY:Wildes Wasserleben
DTSTART;TZID=Europe/Berlin:20260707T000000
END:VEVENT


BEGIN:VEVENT
DTEND;TZID=Europe/Berlin:20260727T000000
UID:69ed566b34a332
DTSTAMP:20260426T020355
LOCATION:Grabau
DESCRIPTION:Hast du dich schon mal gefragt\, was unter der Wasseroberfläche los ist? Wer dort auf der Lauer liegt und wer elegant durchs Wasser gleitet? Gemeinsam erkunden wir\, was sich im und ums Gewässer tummelt.\r\n\r\nAnmelden können sich Kinder im Alter zwischen 6 und 12 Jahren in Begleitung eines Erwachsenen (mehrere Geschwisterkinder oder befreundete Kinder können dabei von einem Erwachsenen begleitet werden).\r\nDas gesamte Ferienprogramm und alle Informationen zur Anmeldung\r\nfinden sich auf der Internetseite des Naturerlebnis Grabau.\r\n\r\nDie Anmeldung läuft über unsere Homepage (https://www.naturerlebnis-grabau.de/).\r\n
URL;VALUE=URI:https://www.unser-ferienprogramm.de/reinbek/veranstaltung.php?id=308192
SUMMARY:Wildes Wasserleben
DTSTART;TZID=Europe/Berlin:20260727T000000
END:VEVENT


BEGIN:VEVENT
DTEND;TZID=Europe/Berlin:20260728T000000
UID:69ed566b34a3e3
DTSTAMP:20260426T020355
LOCATION:Grabau
DESCRIPTION:Hast du dich schon mal gefragt\, was unter der Wasseroberfläche los ist? Wer dort auf der Lauer liegt und wer elegant durchs Wasser gleitet? Gemeinsam erkunden wir\, was sich im und ums Gewässer tummelt.\r\n\r\nAnmelden können sich Kinder im Alter zwischen 6 und 12 Jahren in Begleitung eines Erwachsenen (mehrere Geschwisterkinder oder befreundete Kinder können dabei von einem Erwachsenen begleitet werden).\r\nDas gesamte Ferienprogramm und alle Informationen zur Anmeldung\r\nfinden sich auf der Internetseite des Naturerlebnis Grabau.\r\n\r\nDie Anmeldung läuft über unsere Homepage (https://www.naturerlebnis-grabau.de/).\r\n
URL;VALUE=URI:https://www.unser-ferienprogramm.de/reinbek/veranstaltung.php?id=308192
SUMMARY:Wildes Wasserleben
DTSTART;TZID=Europe/Berlin:20260728T000000
END:VEVENT

END:VCALENDAR
