BEGIN:VCALENDAR
VERSION:2.0
PRODID:-//hacksw/handcal//NONSGML v1.0//EN
CALSCALE:GREGORIAN
BEGIN:VTIMEZONE
TZID:Europe/Berlin
X-LIC-LOCATION:Europe/Berlin
BEGIN:DAYLIGHT
TZOFFSETFROM:+0100
TZOFFSETTO:+0200
TZNAME:CEST
DTSTART:19700329T020000
RRULE:FREQ=YEARLY;BYDAY=-1SU;BYMONTH=3
END:DAYLIGHT
BEGIN:STANDARD
TZOFFSETFROM:+0200
TZOFFSETTO:+0100
TZNAME:CET
DTSTART:19701025T030000
RRULE:FREQ=YEARLY;BYDAY=-1SU;BYMONTH=10
END:STANDARD
END:VTIMEZONE
BEGIN:VEVENT
DTEND;TZID=Europe/Berlin:20260518T170000
UID:69ed576b46984
DTSTAMP:20260426T020811
LOCATION:Spielplatz Eggerskoppel/Neuschönningstedt
DESCRIPTION:Das ELEFANTO-Spielmobil kommt wieder mit vielen Spiel- und Bastelangeboten auf den Spielplatz Eggerskoppel nach Neuschönningstedt. Gespielt wird bei jedem Wetter! 
URL;VALUE=URI:https://www.unser-ferienprogramm.de/reinbek/veranstaltung.php?id=307757
SUMMARY:Spielmobil 
DTSTART;TZID=Europe/Berlin:20260518T150000
END:VEVENT

END:VCALENDAR
