BEGIN:VCALENDAR
VERSION:2.0
PRODID:-//hacksw/handcal//NONSGML v1.0//EN
CALSCALE:GREGORIAN
BEGIN:VTIMEZONE
TZID:Europe/Berlin
X-LIC-LOCATION:Europe/Berlin
BEGIN:DAYLIGHT
TZOFFSETFROM:+0100
TZOFFSETTO:+0200
TZNAME:CEST
DTSTART:19700329T020000
RRULE:FREQ=YEARLY;BYDAY=-1SU;BYMONTH=3
END:DAYLIGHT
BEGIN:STANDARD
TZOFFSETFROM:+0200
TZOFFSETTO:+0100
TZNAME:CET
DTSTART:19701025T030000
RRULE:FREQ=YEARLY;BYDAY=-1SU;BYMONTH=10
END:STANDARD
END:VTIMEZONE
BEGIN:VEVENT
DTEND;TZID=Europe/Berlin:20260810T164500
UID:69ed6b4b178a1
DTSTAMP:20260426T033259
LOCATION:VHS\, Raum 2
DESCRIPTION:"Wissen ist Macht: Werde zum Experten in deinem Fach!"\r\nTrainiere dein Deutsch an 2 Nachmittagen mit abwechslungsreichen Übungen für einen sicheren Start ins neue Schuljahr! Grammatik\, Rechtschreibung und Textverständnis stehen bei Heike Pluntke ganz im Fokus.\r\nDie qualifizierte Kursleiterin Heike Pluntke unterstützt dich mit Geduld und fördert deine Freude am Lernen. 
URL;VALUE=URI:https://www.unser-ferienprogramm.de/reinbek/veranstaltung.php?id=305663
SUMMARY:Deutsch Kompakt – Fit in 2 Tagen! (5./7. Klasse)
DTSTART;TZID=Europe/Berlin:20260810T143000
END:VEVENT


BEGIN:VEVENT
DTEND;TZID=Europe/Berlin:20260811T164500
UID:69ed6b4b178e01
DTSTAMP:20260426T033259
LOCATION:VHS\, Raum 2
DESCRIPTION:"Wissen ist Macht: Werde zum Experten in deinem Fach!"\r\nTrainiere dein Deutsch an 2 Nachmittagen mit abwechslungsreichen Übungen für einen sicheren Start ins neue Schuljahr! Grammatik\, Rechtschreibung und Textverständnis stehen bei Heike Pluntke ganz im Fokus.\r\nDie qualifizierte Kursleiterin Heike Pluntke unterstützt dich mit Geduld und fördert deine Freude am Lernen. 
URL;VALUE=URI:https://www.unser-ferienprogramm.de/reinbek/veranstaltung.php?id=305663
SUMMARY:Deutsch Kompakt – Fit in 2 Tagen! (5./7. Klasse)
DTSTART;TZID=Europe/Berlin:20260811T143000
END:VEVENT

END:VCALENDAR
