BEGIN:VCALENDAR
VERSION:2.0
PRODID:-//hacksw/handcal//NONSGML v1.0//EN
CALSCALE:GREGORIAN
BEGIN:VTIMEZONE
TZID:Europe/Berlin
X-LIC-LOCATION:Europe/Berlin
BEGIN:DAYLIGHT
TZOFFSETFROM:+0100
TZOFFSETTO:+0200
TZNAME:CEST
DTSTART:19700329T020000
RRULE:FREQ=YEARLY;BYDAY=-1SU;BYMONTH=3
END:DAYLIGHT
BEGIN:STANDARD
TZOFFSETFROM:+0200
TZOFFSETTO:+0100
TZNAME:CET
DTSTART:19701025T030000
RRULE:FREQ=YEARLY;BYDAY=-1SU;BYMONTH=10
END:STANDARD
END:VTIMEZONE
BEGIN:VEVENT
DTEND;TZID=Europe/Berlin:20260813T120000
UID:69ed6bd107f3f
DTSTAMP:20260426T033513
LOCATION:VHS\, Raum 2
DESCRIPTION:"Wissen ist Macht: Werde zum Experten in deinem Fach!"\r\nMathe kann verständlich und einfach sein! In der kleinen Runde checkst du vor dem Schulstart deine Mathekenntnisse und schließt Lücken. Mit vielfältigen Übungen behältst du den roten Faden und findest spielerisch wieder Spaß an der Mathematik.\r\nDie erfahrene Nachhilfelehrerin Heike Pluntke\, begleitet dich mit viel Geduld und Freude auf deinem Weg zum Mathe-Erfolg. 
URL;VALUE=URI:https://www.unser-ferienprogramm.de/reinbek/veranstaltung.php?id=305662
SUMMARY:MatheCrash – Grundlagen wiederholen und festigen (5./7. Klasse)
DTSTART;TZID=Europe/Berlin:20260813T094500
END:VEVENT


BEGIN:VEVENT
DTEND;TZID=Europe/Berlin:20260814T120000
UID:69ed6bd107f741
DTSTAMP:20260426T033513
LOCATION:VHS\, Raum 2
DESCRIPTION:"Wissen ist Macht: Werde zum Experten in deinem Fach!"\r\nMathe kann verständlich und einfach sein! In der kleinen Runde checkst du vor dem Schulstart deine Mathekenntnisse und schließt Lücken. Mit vielfältigen Übungen behältst du den roten Faden und findest spielerisch wieder Spaß an der Mathematik.\r\nDie erfahrene Nachhilfelehrerin Heike Pluntke\, begleitet dich mit viel Geduld und Freude auf deinem Weg zum Mathe-Erfolg. 
URL;VALUE=URI:https://www.unser-ferienprogramm.de/reinbek/veranstaltung.php?id=305662
SUMMARY:MatheCrash – Grundlagen wiederholen und festigen (5./7. Klasse)
DTSTART;TZID=Europe/Berlin:20260814T094500
END:VEVENT

END:VCALENDAR
