BEGIN:VCALENDAR
VERSION:2.0
PRODID:-//hacksw/handcal//NONSGML v1.0//EN
CALSCALE:GREGORIAN
BEGIN:VTIMEZONE
TZID:Europe/Berlin
X-LIC-LOCATION:Europe/Berlin
BEGIN:DAYLIGHT
TZOFFSETFROM:+0100
TZOFFSETTO:+0200
TZNAME:CEST
DTSTART:19700329T020000
RRULE:FREQ=YEARLY;BYDAY=-1SU;BYMONTH=3
END:DAYLIGHT
BEGIN:STANDARD
TZOFFSETFROM:+0200
TZOFFSETTO:+0100
TZNAME:CET
DTSTART:19701025T030000
RRULE:FREQ=YEARLY;BYDAY=-1SU;BYMONTH=10
END:STANDARD
END:VTIMEZONE
BEGIN:VEVENT
DTEND;TZID=Europe/Berlin:20260806T120000
UID:69ed6d6a9a199
DTSTAMP:20260426T034202
LOCATION:VHS\, Raum 2
DESCRIPTION:Let’s have fun together! Im Sommerkurs lernst du neue Wörter\, singst coole Lieder und entdeckst die Sprache mit tollen Sprachspielen.\r\nMach mit und rocke dein Englisch mit Heike – sie freut sich auf dich! 
URL;VALUE=URI:https://www.unser-ferienprogramm.de/reinbek/veranstaltung.php?id=305660
SUMMARY:My First English -  Playing & Learning Together! (3./4. Klasse)
DTSTART;TZID=Europe/Berlin:20260806T094500
END:VEVENT


BEGIN:VEVENT
DTEND;TZID=Europe/Berlin:20260807T120000
UID:69ed6d6a9a1d61
DTSTAMP:20260426T034202
LOCATION:VHS\, Raum 2
DESCRIPTION:Let’s have fun together! Im Sommerkurs lernst du neue Wörter\, singst coole Lieder und entdeckst die Sprache mit tollen Sprachspielen.\r\nMach mit und rocke dein Englisch mit Heike – sie freut sich auf dich! 
URL;VALUE=URI:https://www.unser-ferienprogramm.de/reinbek/veranstaltung.php?id=305660
SUMMARY:My First English -  Playing & Learning Together! (3./4. Klasse)
DTSTART;TZID=Europe/Berlin:20260807T094500
END:VEVENT

END:VCALENDAR
