BEGIN:VCALENDAR
VERSION:2.0
PRODID:-//hacksw/handcal//NONSGML v1.0//EN
CALSCALE:GREGORIAN
BEGIN:VTIMEZONE
TZID:Europe/Berlin
X-LIC-LOCATION:Europe/Berlin
BEGIN:DAYLIGHT
TZOFFSETFROM:+0100
TZOFFSETTO:+0200
TZNAME:CEST
DTSTART:19700329T020000
RRULE:FREQ=YEARLY;BYDAY=-1SU;BYMONTH=3
END:DAYLIGHT
BEGIN:STANDARD
TZOFFSETFROM:+0200
TZOFFSETTO:+0100
TZNAME:CET
DTSTART:19701025T030000
RRULE:FREQ=YEARLY;BYDAY=-1SU;BYMONTH=10
END:STANDARD
END:VTIMEZONE
BEGIN:VEVENT
DTEND;TZID=Europe/Berlin:20260810T120000
UID:69ed6bc5ed886
DTSTAMP:20260426T033501
LOCATION:VHS\, Raum 2
DESCRIPTION:Ready for a fresh school start? Mit Spaß und Abwechslung frischst du deine Englischkenntnisse auf – durch Hör- und Leseübungen\, kreative Spiele und viel Sprechtraining! So startest du fit und selbstbewusst ins neue Schuljahr!\r\nMotivierte Fünftklässler:innen mit Vorkenntnissen dürfen nach kurzer telefonischer Beratung teilnehmen.\r\nHeike Pluntke ist eine erfahrene Englischkursleiterin und Nachhilfelehrerin. Mit Freude\, Geduld und alltagsnahen Methoden macht sie Sprache lebendig und leicht verständlich.\r\n
URL;VALUE=URI:https://www.unser-ferienprogramm.de/reinbek/veranstaltung.php?id=305659
SUMMARY:Back to school - Refresh your English! (6./7. Klasse)
DTSTART;TZID=Europe/Berlin:20260810T094500
END:VEVENT


BEGIN:VEVENT
DTEND;TZID=Europe/Berlin:20260811T120000
UID:69ed6bc5ed8c31
DTSTAMP:20260426T033501
LOCATION:VHS\, Raum 2
DESCRIPTION:Ready for a fresh school start? Mit Spaß und Abwechslung frischst du deine Englischkenntnisse auf – durch Hör- und Leseübungen\, kreative Spiele und viel Sprechtraining! So startest du fit und selbstbewusst ins neue Schuljahr!\r\nMotivierte Fünftklässler:innen mit Vorkenntnissen dürfen nach kurzer telefonischer Beratung teilnehmen.\r\nHeike Pluntke ist eine erfahrene Englischkursleiterin und Nachhilfelehrerin. Mit Freude\, Geduld und alltagsnahen Methoden macht sie Sprache lebendig und leicht verständlich.\r\n
URL;VALUE=URI:https://www.unser-ferienprogramm.de/reinbek/veranstaltung.php?id=305659
SUMMARY:Back to school - Refresh your English! (6./7. Klasse)
DTSTART;TZID=Europe/Berlin:20260811T094500
END:VEVENT


BEGIN:VEVENT
DTEND;TZID=Europe/Berlin:20260812T120000
UID:69ed6bc5ed8d12
DTSTAMP:20260426T033501
LOCATION:VHS\, Raum 2
DESCRIPTION:Ready for a fresh school start? Mit Spaß und Abwechslung frischst du deine Englischkenntnisse auf – durch Hör- und Leseübungen\, kreative Spiele und viel Sprechtraining! So startest du fit und selbstbewusst ins neue Schuljahr!\r\nMotivierte Fünftklässler:innen mit Vorkenntnissen dürfen nach kurzer telefonischer Beratung teilnehmen.\r\nHeike Pluntke ist eine erfahrene Englischkursleiterin und Nachhilfelehrerin. Mit Freude\, Geduld und alltagsnahen Methoden macht sie Sprache lebendig und leicht verständlich.\r\n
URL;VALUE=URI:https://www.unser-ferienprogramm.de/reinbek/veranstaltung.php?id=305659
SUMMARY:Back to school - Refresh your English! (6./7. Klasse)
DTSTART;TZID=Europe/Berlin:20260812T094500
END:VEVENT

END:VCALENDAR
