BEGIN:VCALENDAR
VERSION:2.0
PRODID:-//hacksw/handcal//NONSGML v1.0//EN
CALSCALE:GREGORIAN
BEGIN:VTIMEZONE
TZID:Europe/Berlin
X-LIC-LOCATION:Europe/Berlin
BEGIN:DAYLIGHT
TZOFFSETFROM:+0100
TZOFFSETTO:+0200
TZNAME:CEST
DTSTART:19700329T020000
RRULE:FREQ=YEARLY;BYDAY=-1SU;BYMONTH=3
END:DAYLIGHT
BEGIN:STANDARD
TZOFFSETFROM:+0200
TZOFFSETTO:+0100
TZNAME:CET
DTSTART:19701025T030000
RRULE:FREQ=YEARLY;BYDAY=-1SU;BYMONTH=10
END:STANDARD
END:VTIMEZONE
BEGIN:VEVENT
DTEND;TZID=Europe/Berlin:20261223T190000
UID:69ed6c0ca195c
DTSTAMP:20260426T033612
LOCATION:Garage neben der TSV Geschäftsstelle
DESCRIPTION:Beim Lichterfest handelt es sich um eine Veranstaltung für die ganze Familie\, welche vor der Geschäftsstelle unserer TSV Reinbek am 23.12. von 17 - 19 Uhr stattfindet. \r\nZum einen könnt ihr gemütlich am Lagerfeuer und den Glutschalen sitzen\, zum anderen können gerade die jüngeren Gäste den Wichtelwald entdecken und dabei ihr Stockbrot ausbacken. Kommt einfach ohne Anmeldung vorbei zu einem Abend mit Lagerfeuer\, Kinderpunsch\, Stockbrot und Glühwein. Stimmt euch in entspannter Atmosphäre auf Weihnachten ein und das alles kostenlos. Über Spenden freuen wir uns.
URL;VALUE=URI:https://www.unser-ferienprogramm.de/reinbek/veranstaltung.php?id=296614
SUMMARY:Lichterfest
DTSTART;TZID=Europe/Berlin:20261223T170000
END:VEVENT

END:VCALENDAR
