BEGIN:VCALENDAR
VERSION:2.0
PRODID:-//hacksw/handcal//NONSGML v1.0//EN
CALSCALE:GREGORIAN
BEGIN:VTIMEZONE
TZID:Europe/Berlin
X-LIC-LOCATION:Europe/Berlin
BEGIN:DAYLIGHT
TZOFFSETFROM:+0100
TZOFFSETTO:+0200
TZNAME:CEST
DTSTART:19700329T020000
RRULE:FREQ=YEARLY;BYDAY=-1SU;BYMONTH=3
END:DAYLIGHT
BEGIN:STANDARD
TZOFFSETFROM:+0200
TZOFFSETTO:+0100
TZNAME:CET
DTSTART:19701025T030000
RRULE:FREQ=YEARLY;BYDAY=-1SU;BYMONTH=10
END:STANDARD
END:VTIMEZONE
BEGIN:VEVENT
DTEND;TZID=Europe/Berlin:20261030T180000
UID:69ed6b218f2d9
DTSTAMP:20260426T033217
LOCATION:Theodor-Storm-Straße 20
DESCRIPTION:„Ich gehe mit meiner Laterne …“\r\n… heißt es am Fr\, 30.10.2026 um 18 Uhr wieder\, wenn die TSV Reinbek alle Reinbeker Familien zum traditionellen Laternenumzug erwartet! Begleitet vom Reinbeker Stadtorchester geht der Laternenumzug um 18:15 Uhr von der Kehre der Theodor-Storm-Straße in Richtung Schulstraße. Nach wenigen Metern biegt der Umzug in die Jahnstraße ab\, folgt dann der Klosterbergenstraße und führt über Holsteinerstraße und Schulweg bis ins Paul-Luckow-Stadion\, wo das Highlight des Umzuges wartet. Im bunt geschmückten Stadion gibt es kleine Wichtelwälder und die große Lichterpyramide zu entdecken\, in deren unmittelbarer Nähe sich in diesem Jahr zum ersten Mal im Anschluss bei Punsch und Lichterglanz in zwangloser Atmosphäre ausgetauscht und das Gelände von Groß und Klein erobert werden kann.\r\nBringt viele Laternen mit oder schmückt den Kinderwagen mit Lichterketten\, damit es ein bunter Umzug wird.\r\n
URL;VALUE=URI:https://www.unser-ferienprogramm.de/reinbek/veranstaltung.php?id=296609
SUMMARY:Laternenumzug
DTSTART;TZID=Europe/Berlin:20261030T180000
END:VEVENT

END:VCALENDAR
