BEGIN:VCALENDAR
VERSION:2.0
PRODID:-//hacksw/handcal//NONSGML v1.0//EN
CALSCALE:GREGORIAN
BEGIN:VTIMEZONE
TZID:Europe/Berlin
X-LIC-LOCATION:Europe/Berlin
BEGIN:DAYLIGHT
TZOFFSETFROM:+0100
TZOFFSETTO:+0200
TZNAME:CEST
DTSTART:19700329T020000
RRULE:FREQ=YEARLY;BYDAY=-1SU;BYMONTH=3
END:DAYLIGHT
BEGIN:STANDARD
TZOFFSETFROM:+0200
TZOFFSETTO:+0100
TZNAME:CET
DTSTART:19701025T030000
RRULE:FREQ=YEARLY;BYDAY=-1SU;BYMONTH=10
END:STANDARD
END:VTIMEZONE
BEGIN:VEVENT
DTEND;TZID=Europe/Berlin:20261031T130000
UID:69ed6cba92726
DTSTAMP:20260426T033906
LOCATION:Uwe-Plog-Halle
DESCRIPTION:In der Nacht der Geister ist keiner vor gruseligen Gestalten sicher. Der Schlaf kommt in der Halle nicht zu kurz. Mit viel Mut und Spaß am Sport wollen wir die bösartigen Gespenster vertreiben.
URL;VALUE=URI:https://www.unser-ferienprogramm.de/reinbek/veranstaltung.php?id=296604
SUMMARY:Halloween Magic Night
DTSTART;TZID=Europe/Berlin:20261030T170000
END:VEVENT

END:VCALENDAR
