BEGIN:VCALENDAR
VERSION:2.0
PRODID:-//hacksw/handcal//NONSGML v1.0//EN
CALSCALE:GREGORIAN
BEGIN:VTIMEZONE
TZID:Europe/Berlin
X-LIC-LOCATION:Europe/Berlin
BEGIN:DAYLIGHT
TZOFFSETFROM:+0100
TZOFFSETTO:+0200
TZNAME:CEST
DTSTART:19700329T020000
RRULE:FREQ=YEARLY;BYDAY=-1SU;BYMONTH=3
END:DAYLIGHT
BEGIN:STANDARD
TZOFFSETFROM:+0200
TZOFFSETTO:+0100
TZNAME:CET
DTSTART:19701025T030000
RRULE:FREQ=YEARLY;BYDAY=-1SU;BYMONTH=10
END:STANDARD
END:VTIMEZONE
BEGIN:VEVENT
DTEND;TZID=Europe/Berlin:20260913T150000
UID:69ed6b6e5a959
DTSTAMP:20260426T033334
LOCATION:Paul-Luckow-Stadion
DESCRIPTION:Nach dem Sportfest ist vor dem Sportfest! Am 13.09.2026 öffnen wir wieder die Türen für euch. Von 11:00 bis 15:00 Uhr steht unsere Anlage ganz im Zeichen der Familie und des Sports. \r\nDamit der Tag für alle ein voller Erfolg wird\, haben die Abteilungen spannende Angebote für euch vorbereitet. Vom Slackline-Parcours der Vereinsjugend\, einer Basketballstation\, bis hin zum Fahrradparcours der Radgruppe ist alles geboten\, wonach das Sportlerherz verlangt. Und wer mit dem Rad oder einem Gleichgewichtstest auf der Slackline nicht viel anfangen kann\, kann beim Bungee-Jumping eine gute Übersicht über das Paul-Luckow-Stadion mit einem Adrenalin-Kick verbinden\, sich in Ruhe beim Kinderschminken in das persönliche Lieblingstier verwandeln oder sein Können bei der Parcourschallenge unter Beweis stellen.  \r\nAuch ein Austausch mit Geschäftsstelle oder GeFit ist an ihren jeweiligen Ständen möglich. \r\nUm das leibliche Wohl kümmert sich wie gewohnt\, unser Clubwirt Tommy\, bei dem ihr euch vor der nächsten körperlichen Aufgabe auf unserem Sportfest stärken könnt.\r\nAlso: Markiere dir den 13.09. im Kalender und wir freuen uns darauf\, dich auf unserer Anlage zu sehen.
URL;VALUE=URI:https://www.unser-ferienprogramm.de/reinbek/veranstaltung.php?id=296593
SUMMARY:Reinbeker Sportfest
DTSTART;TZID=Europe/Berlin:20260913T110000
END:VEVENT

END:VCALENDAR
