BEGIN:VCALENDAR
VERSION:2.0
PRODID:-//hacksw/handcal//NONSGML v1.0//EN
CALSCALE:GREGORIAN
BEGIN:VTIMEZONE
TZID:Europe/Berlin
X-LIC-LOCATION:Europe/Berlin
BEGIN:DAYLIGHT
TZOFFSETFROM:+0100
TZOFFSETTO:+0200
TZNAME:CEST
DTSTART:19700329T020000
RRULE:FREQ=YEARLY;BYDAY=-1SU;BYMONTH=3
END:DAYLIGHT
BEGIN:STANDARD
TZOFFSETFROM:+0200
TZOFFSETTO:+0100
TZNAME:CET
DTSTART:19701025T030000
RRULE:FREQ=YEARLY;BYDAY=-1SU;BYMONTH=10
END:STANDARD
END:VTIMEZONE
BEGIN:VEVENT
DTEND;TZID=Europe/Berlin:20260815T000000
UID:69ed57bcc92fa
DTSTAMP:20260426T020932
LOCATION:Ferienhaus in Südnorwegen
DESCRIPTION:„Erlebe die Freiheit: Jugendreise 2026 nach Norwegen!“\r\nIm Sommer 2026 ist es so weit\, die TSV Reinbek bietet wieder eine Jugendreise nach Norwegen an. Vom 31.07. bis 15.08.2026 können Jugendliche zwischen 14 und 17 Jahren eine Reise erleben\, die sie nie vergessen werden. Die Fahrt führt in ein Selbstversorgerhaus nach Omlid in Südnorwegen. Mit drei Kleinbussen geht es zunächst bis nach Hirtshals in Dänemark und nach einer Übernachtung auf einem Campingplatz geht es am nächsten Tag mit der Fähre nach Kristiansand in Norwegen und von dort aus weiter zum Haus. \r\nVor Ort werden jede Menge Spiele gespielt. Von Sportspielen über Denkspiele bis hin zu kreativen Aufgaben ist alles mit dabei. Für reichlich Abwechslung sorgen verschiedene Ausflüge. Möglicherweise an den Svartevatn\, ein See in der Nähe\, in die Stadt Stavanger\, an den Lysebotn mit seiner Aussichtsplattform „Adlernest“ und die 604 m hohe Felskanzel Preikestolen.\r\nEin weiteres Highlight erwartet die Gruppe auf dem Rückweg: Nach einem Halt an der wunderschönen Badestelle Honnevje bei Valle\, geht es weiter zum Rafting\, bevor es dann\, nach einer Übernachtung\, mit der Fähre wieder nach Hirtshals geht. \r\nDer Reisepreis beträgt für TSV-Mitglieder 700 €\, für Nicht-Mitglieder 750 €\, und beinhaltet alle Kosten wie An- und Abfahrt\, Unterkunft\, Verpflegung und alle Ausflüge. Außerdem im Preis inbegriffen ist der USB-Stick mit Fotos und Film der Reise\, den alle Teilnehmer:innen beim Nachtreffen der Reise erhalten.\r\n
URL;VALUE=URI:https://www.unser-ferienprogramm.de/reinbek/veranstaltung.php?id=296592
SUMMARY:Jugendreise Südnorwegen
DTSTART;TZID=Europe/Berlin:20260731T000000
END:VEVENT

END:VCALENDAR
