BEGIN:VCALENDAR
VERSION:2.0
PRODID:-//hacksw/handcal//NONSGML v1.0//EN
CALSCALE:GREGORIAN
BEGIN:VTIMEZONE
TZID:Europe/Berlin
X-LIC-LOCATION:Europe/Berlin
BEGIN:DAYLIGHT
TZOFFSETFROM:+0100
TZOFFSETTO:+0200
TZNAME:CEST
DTSTART:19700329T020000
RRULE:FREQ=YEARLY;BYDAY=-1SU;BYMONTH=3
END:DAYLIGHT
BEGIN:STANDARD
TZOFFSETFROM:+0200
TZOFFSETTO:+0100
TZNAME:CET
DTSTART:19701025T030000
RRULE:FREQ=YEARLY;BYDAY=-1SU;BYMONTH=10
END:STANDARD
END:VTIMEZONE
BEGIN:VEVENT
DTEND;TZID=Europe/Berlin:20260815T000000
UID:69ed6c6d0a4cc
DTSTAMP:20260426T033749
LOCATION:Feriencamp Lensterstrand bei Grömitz
DESCRIPTION:Ein zweites Mal Lensterstrand – Zeltlager 2026\r\nLiebe Kinder und liebe Eltern\,\r\nseid ihr bereit für das Highlight des Sommers? Zum Ende der Sommerferien steht das Zeltlager der Vereinsjugend wieder an– und es gibt aufregende Neuigkeiten! Nachdem das Camp in Lensterstrand uns alle überzeugen konnte\, geht es nächstes Jahr gleich wieder in das Camp nahe der Ostsee! Freut euch auf einladende Hütten\, abwechslungsreiches Mittagessen und spannende Ausflüge nach Grömitz.\r\nVom 01.08. bis 15.08.26 erwarten Kinder von 8 bis 13 Jahren jede Menge Action\, Spaß und neue Freundschaften. Egal ob Strandspiele\, Geländewettkämpfe oder abendliches Stockbrot am Lagerfeuer – langweilig wird es hier garantiert nicht! Und natürlich gibt es wieder einen tollen Überraschungsausflug sowie spannende Abendveranstaltungen wie zum Beispiel unsere Disco.\r\nSeid schnell! Die Plätze sind begrenzt\, also sichert euch jetzt euren Platz im Zeltlager der TSV Reinbek. Anmeldungen und Infos gibt es in der Geschäftsstelle oder per E-Mail an info@tsv-reinbek.de. \r\nWir freuen uns auf euch – und auf den Sommer\, den ihr nicht vergesst!\r\n
URL;VALUE=URI:https://www.unser-ferienprogramm.de/reinbek/veranstaltung.php?id=296590
SUMMARY:Zeltlager Lensterstrand 2026
DTSTART;TZID=Europe/Berlin:20260801T000000
END:VEVENT

END:VCALENDAR
