BEGIN:VCALENDAR
VERSION:2.0
PRODID:-//hacksw/handcal//NONSGML v1.0//EN
CALSCALE:GREGORIAN
BEGIN:VTIMEZONE
TZID:Europe/Berlin
X-LIC-LOCATION:Europe/Berlin
BEGIN:DAYLIGHT
TZOFFSETFROM:+0100
TZOFFSETTO:+0200
TZNAME:CEST
DTSTART:19700329T020000
RRULE:FREQ=YEARLY;BYDAY=-1SU;BYMONTH=3
END:DAYLIGHT
BEGIN:STANDARD
TZOFFSETFROM:+0200
TZOFFSETTO:+0100
TZNAME:CET
DTSTART:19701025T030000
RRULE:FREQ=YEARLY;BYDAY=-1SU;BYMONTH=10
END:STANDARD
END:VTIMEZONE
BEGIN:VEVENT
DTEND;TZID=Europe/Berlin:20260810T000000
UID:69ed57b514633
DTSTAMP:20260426T020925
LOCATION:Norddeutschland
DESCRIPTION:Zwei Wochen Abenteuer in den Sommerferien: Wir fahren vom 27.07.-10.08.2026 mit Kindern im Alter von 8-13 Jahre auf eine wunderschöne Wiese in Norddeutschland. Dort schlaft ihr in Zelten und erprobt euch mit eurer Zeltgruppe bei vielen verschiedenen Spielen als Team. Ihr könnt euch auf Rätsel\, Nachtwanderungen und Lagerspiele freuen\, die mal einen klugen Kopf und mal etwas körperliches Geschick erfordern. Für Kreative bieten wir verschiedene Bastelworkshops an und lernen jeden Tag etwas neues über die Natur. Bei all den spannenden Spielen bekommt man natürlich Hunger. Daher gibt es jeden Tag leckeres Essen\, das wir ganz besonders kochen\, ohne Strom\, aber über dem Feuer. Wer neugierig ist\, kann gerne mehr auf unserer Website lesen. Wir freuen uns auf euch!
URL;VALUE=URI:https://www.unser-ferienprogramm.de/reinbek/veranstaltung.php?id=263730
SUMMARY:Zeltlager Reinbek der KjG Reinbek
DTSTART;TZID=Europe/Berlin:20260727T000000
END:VEVENT

END:VCALENDAR
