BEGIN:VCALENDAR
VERSION:2.0
PRODID:-//hacksw/handcal//NONSGML v1.0//EN
CALSCALE:GREGORIAN
BEGIN:VTIMEZONE
TZID:Europe/Berlin
X-LIC-LOCATION:Europe/Berlin
BEGIN:DAYLIGHT
TZOFFSETFROM:+0100
TZOFFSETTO:+0200
TZNAME:CEST
DTSTART:19700329T020000
RRULE:FREQ=YEARLY;BYDAY=-1SU;BYMONTH=3
END:DAYLIGHT
BEGIN:STANDARD
TZOFFSETFROM:+0200
TZOFFSETTO:+0100
TZNAME:CET
DTSTART:19701025T030000
RRULE:FREQ=YEARLY;BYDAY=-1SU;BYMONTH=10
END:STANDARD
END:VTIMEZONE
BEGIN:VEVENT
DTEND;TZID=Europe/Berlin:20250910T155000
UID:69e76697b832d
DTSTAMP:20260421T135919
LOCATION:Grund- und Mittelschule
DESCRIPTION:Wenn live auf der Bühne ein Theaterstück entsteht und dabei das Publikum Regie führt\, ist ein einzigartiges Theatererlebnis sicher. In dieser Mission ist das mixxit Theater unterwegs und improvisiert Geschichten\, mit denen vor Vorstellungsbeginn noch niemand gerechnet hat.\r\nIhr seid jetzt gefragt:\r\nWo soll die Geschichte spielen?\r\nWer ist der Held der Geschichte?\r\nIhr bestimmt\, was gespielt wird!\r\nSkurril\, schräg\, schlagfertig und spontan – garantiert zu 100% improvisiert!
URL;VALUE=URI:https://www.unser-ferienprogramm.de/reichertshofen/veranstaltung.php?id=266560
SUMMARY:Mit Zick & Zack auf Geschichtenreise – das Mitspinntheater für Kinder und zwei Ringelsocken
DTSTART;TZID=Europe/Berlin:20250910T150000
END:VEVENT

END:VCALENDAR
