BEGIN:VCALENDAR
VERSION:2.0
PRODID:-//hacksw/handcal//NONSGML v1.0//EN
CALSCALE:GREGORIAN
BEGIN:VTIMEZONE
TZID:Europe/Berlin
X-LIC-LOCATION:Europe/Berlin
BEGIN:DAYLIGHT
TZOFFSETFROM:+0100
TZOFFSETTO:+0200
TZNAME:CEST
DTSTART:19700329T020000
RRULE:FREQ=YEARLY;BYDAY=-1SU;BYMONTH=3
END:DAYLIGHT
BEGIN:STANDARD
TZOFFSETFROM:+0200
TZOFFSETTO:+0100
TZNAME:CET
DTSTART:19701025T030000
RRULE:FREQ=YEARLY;BYDAY=-1SU;BYMONTH=10
END:STANDARD
END:VTIMEZONE
BEGIN:VEVENT
DTEND;TZID=Europe/Berlin:20260430T180000
UID:69e8e299a0298
DTSTAMP:20260422T170041
LOCATION:café connect
DESCRIPTION:Wir möchten mit euch nicht nur essen\, sondern gemeinsam kochen! Wir laden euch herzlich zu unserem offenen Kochangebot ein. Zusammen bereiten wir ein leckeres Gericht zu\, probieren neue Rezepte aus und lernen kleine Küchentricks kennen\, die jeder ganz leicht zu Hause anwenden kann.\r\n\r\nIhr müsst nichts mitbringen – wir stellen alle Zutaten bereit und unterstützen euch Schritt für Schritt beim Zubereiten. Ob Anfänger*in oder Küchenprofi\, alle sind willkommen. Im Mittelpunkt stehen das gemeinsame Tun\, der Spaß am Ausprobieren und das Genießen in der Gruppe.\r\n\r\nKommt vorbei\, kocht mit uns und verbringt einen gemütlichen\, leckeren Nachmittag im offenen Treff. Wir freuen uns auf euch und eure kulinarische Neugier!
URL;VALUE=URI:https://www.unser-ferienprogramm.de/radolfzell/veranstaltung.php?id=310819
SUMMARY:Lets cook Together - gemeinsam kochen und essen
DTSTART;TZID=Europe/Berlin:20260430T160000
END:VEVENT

END:VCALENDAR
