BEGIN:VCALENDAR
VERSION:2.0
PRODID:-//hacksw/handcal//NONSGML v1.0//EN
CALSCALE:GREGORIAN
BEGIN:VTIMEZONE
TZID:Europe/Berlin
X-LIC-LOCATION:Europe/Berlin
BEGIN:DAYLIGHT
TZOFFSETFROM:+0100
TZOFFSETTO:+0200
TZNAME:CEST
DTSTART:19700329T020000
RRULE:FREQ=YEARLY;BYDAY=-1SU;BYMONTH=3
END:DAYLIGHT
BEGIN:STANDARD
TZOFFSETFROM:+0200
TZOFFSETTO:+0100
TZNAME:CET
DTSTART:19701025T030000
RRULE:FREQ=YEARLY;BYDAY=-1SU;BYMONTH=10
END:STANDARD
END:VTIMEZONE
BEGIN:VEVENT
DTEND;TZID=Europe/Berlin:20260424T180000
UID:69e8df3458780
DTSTAMP:20260422T164612
LOCATION:café connect
DESCRIPTION:Es ist Zock 'n' Chill im café connect angesagt! Schnappt euch einen Controller und spielt gemeinsam mit anderen auf unserer PlayStation 4 – zum Beispiel spannende FIFA-Duelle – oder liefert euch rasante Rennen auf der Nintendo Switch\, etwa bei Mario Kart.\r\n\r\nEgal ob ihr Profi seid oder einfach nur Lust auf ein paar lockere Runden habt: Bei uns steht der Spaß im Vordergrund. Wir sorgen für eine faire\, freundliche Atmosphäre und erklären auf Wunsch die Spiele.\r\n\r\nKommt vorbei\, trefft andere Gaming-Fans und verbringt einen coolen\, abwechslungsreichen Tag bei uns. Wir freuen uns auf viele spannende Runden mit euch!
URL;VALUE=URI:https://www.unser-ferienprogramm.de/radolfzell/veranstaltung.php?id=310816
SUMMARY:Zock 'n' Chill im café connect
DTSTART;TZID=Europe/Berlin:20260424T150000
END:VEVENT

END:VCALENDAR
