BEGIN:VCALENDAR
VERSION:2.0
PRODID:-//hacksw/handcal//NONSGML v1.0//EN
CALSCALE:GREGORIAN
BEGIN:VTIMEZONE
TZID:Europe/Berlin
X-LIC-LOCATION:Europe/Berlin
BEGIN:DAYLIGHT
TZOFFSETFROM:+0100
TZOFFSETTO:+0200
TZNAME:CEST
DTSTART:19700329T020000
RRULE:FREQ=YEARLY;BYDAY=-1SU;BYMONTH=3
END:DAYLIGHT
BEGIN:STANDARD
TZOFFSETFROM:+0200
TZOFFSETTO:+0100
TZNAME:CET
DTSTART:19701025T030000
RRULE:FREQ=YEARLY;BYDAY=-1SU;BYMONTH=10
END:STANDARD
END:VTIMEZONE
BEGIN:VEVENT
DTEND;TZID=Europe/Berlin:20260422T190000
UID:69e8e344ace05
DTSTAMP:20260422T170332
LOCATION:café connect
DESCRIPTION:Wir laden euch herzlich zu einem gemütlichen Brettspielnachmittag ein. Wir holen unsere Lieblingsspiele aus dem Regal – von Klassikern über Strategie-Highlights bis hin zu schnellen\, lustigen Spielen für zwischendurch ist alles dabei.\r\n\r\nOb ihr einfach reinschnuppern wollt\, eure Spielkenntnisse zeigen möchtet oder neue Spiele kennenlernen wollt: Bei uns findet ihr garantiert die passende Runde. Wir erklären euch die Regeln\, unterstützen beim Einstieg und sorgen für eine entspannte\, freundliche Atmosphäre.\r\n\r\nKommt vorbei\, lernt neue Leute kennen\, lacht\, knobelt und verbringt mit uns einen spielerischen Nachmittag. Wir freuen uns auf viele schöne Partien mit euch!
URL;VALUE=URI:https://www.unser-ferienprogramm.de/radolfzell/veranstaltung.php?id=310814
SUMMARY:Brettspielnachmittag
DTSTART;TZID=Europe/Berlin:20260422T150000
END:VEVENT

END:VCALENDAR
