BEGIN:VCALENDAR
VERSION:2.0
PRODID:-//hacksw/handcal//NONSGML v1.0//EN
CALSCALE:GREGORIAN
BEGIN:VTIMEZONE
TZID:Europe/Berlin
X-LIC-LOCATION:Europe/Berlin
BEGIN:DAYLIGHT
TZOFFSETFROM:+0100
TZOFFSETTO:+0200
TZNAME:CEST
DTSTART:19700329T020000
RRULE:FREQ=YEARLY;BYDAY=-1SU;BYMONTH=3
END:DAYLIGHT
BEGIN:STANDARD
TZOFFSETFROM:+0200
TZOFFSETTO:+0100
TZNAME:CET
DTSTART:19701025T030000
RRULE:FREQ=YEARLY;BYDAY=-1SU;BYMONTH=10
END:STANDARD
END:VTIMEZONE
BEGIN:VEVENT
DTEND;TZID=Europe/Berlin:20260430T180000
UID:69e8e28e5850e
DTSTAMP:20260422T170030
LOCATION:KinderKulturZentrum+ Lollipop\, Waldstr. 26
DESCRIPTION:Jeden Dienstag und Donnerstag von 15:30 - 18:00 Uhr findet der Offene Treff im Lollipop statt. In diesen Zeiträumen haben wir unsere Türen geöffnet und die Kinder können ohne Anmeldung kommen (und gehen) wann sie möchten. Der offene Treff ist kostenfrei.\r\n\r\nHier gibt es alle möglichen Aktivitäten zu erleben wie:\r\n\r\nTrampolin \r\nTischkicker\r\nTischtennis\r\nGarten\r\nSpiele\r\nZocken (PS3 & Wii)\r\nund vieles mehr!
URL;VALUE=URI:https://www.unser-ferienprogramm.de/radolfzell/veranstaltung.php?id=303083
SUMMARY:Offener Treff - Waffeln backen
DTSTART;TZID=Europe/Berlin:20260430T153000
END:VEVENT

END:VCALENDAR
