BEGIN:VCALENDAR
VERSION:2.0
PRODID:-//hacksw/handcal//NONSGML v1.0//EN
CALSCALE:GREGORIAN
BEGIN:VTIMEZONE
TZID:Europe/Berlin
X-LIC-LOCATION:Europe/Berlin
BEGIN:DAYLIGHT
TZOFFSETFROM:+0100
TZOFFSETTO:+0200
TZNAME:CEST
DTSTART:19700329T020000
RRULE:FREQ=YEARLY;BYDAY=-1SU;BYMONTH=3
END:DAYLIGHT
BEGIN:STANDARD
TZOFFSETFROM:+0200
TZOFFSETTO:+0100
TZNAME:CET
DTSTART:19701025T030000
RRULE:FREQ=YEARLY;BYDAY=-1SU;BYMONTH=10
END:STANDARD
END:VTIMEZONE
BEGIN:VEVENT
DTEND;TZID=Europe/Berlin:20260803T160000
UID:69e8f6b283f11
DTSTAMP:20260422T182626
LOCATION:Tegging
DESCRIPTION:Die Ferienzeit ist eine kommunale Ferienbetreuung für Grundschulkinder\, die in Radolfzell wohnen. Diese Veranstaltung ist besonders sie verbindet Ferienbetreuung und Schwimmunterricht.\r\n\r\nDie Kinder kommen morgens zur Teggingerschule.\r\nGemeinsam fahren wir nach Konstanz zum Schwaketenbad. Dort geben die Lehrerinnen des Schwimmvereines Sparta Konstanz e. V. 45 Minuten Schwimmunterricht. Zum Mittagessen sind wir zurück an der Schule. Nachmittags haben die Kinder Freizeit und können verschiedenen Aktivitäten in der betreuten Ferienzeit nachgehen. \r\n\r\nPackliste:\r\nBadehose/Badeanzug\r\nHandtuch\r\nShampoo\r\nTüte für nasse Sachen\r\nVesper+Trinken\r\nBadelatschen\r\nRucksack
URL;VALUE=URI:https://www.unser-ferienprogramm.de/radolfzell/veranstaltung.php?id=302962
SUMMARY:Schwimmunterricht in der Ferienzeit Sommerferien 1. und 2. Woche
DTSTART;TZID=Europe/Berlin:20260803T080000
END:VEVENT


BEGIN:VEVENT
DTEND;TZID=Europe/Berlin:20260804T160000
UID:69e8f6b283f4f1
DTSTAMP:20260422T182626
LOCATION:Tegging
DESCRIPTION:Die Ferienzeit ist eine kommunale Ferienbetreuung für Grundschulkinder\, die in Radolfzell wohnen. Diese Veranstaltung ist besonders sie verbindet Ferienbetreuung und Schwimmunterricht.\r\n\r\nDie Kinder kommen morgens zur Teggingerschule.\r\nGemeinsam fahren wir nach Konstanz zum Schwaketenbad. Dort geben die Lehrerinnen des Schwimmvereines Sparta Konstanz e. V. 45 Minuten Schwimmunterricht. Zum Mittagessen sind wir zurück an der Schule. Nachmittags haben die Kinder Freizeit und können verschiedenen Aktivitäten in der betreuten Ferienzeit nachgehen. \r\n\r\nPackliste:\r\nBadehose/Badeanzug\r\nHandtuch\r\nShampoo\r\nTüte für nasse Sachen\r\nVesper+Trinken\r\nBadelatschen\r\nRucksack
URL;VALUE=URI:https://www.unser-ferienprogramm.de/radolfzell/veranstaltung.php?id=302962
SUMMARY:Schwimmunterricht in der Ferienzeit Sommerferien 1. und 2. Woche
DTSTART;TZID=Europe/Berlin:20260804T080000
END:VEVENT


BEGIN:VEVENT
DTEND;TZID=Europe/Berlin:20260805T160000
UID:69e8f6b283f5e2
DTSTAMP:20260422T182626
LOCATION:Tegging
DESCRIPTION:Die Ferienzeit ist eine kommunale Ferienbetreuung für Grundschulkinder\, die in Radolfzell wohnen. Diese Veranstaltung ist besonders sie verbindet Ferienbetreuung und Schwimmunterricht.\r\n\r\nDie Kinder kommen morgens zur Teggingerschule.\r\nGemeinsam fahren wir nach Konstanz zum Schwaketenbad. Dort geben die Lehrerinnen des Schwimmvereines Sparta Konstanz e. V. 45 Minuten Schwimmunterricht. Zum Mittagessen sind wir zurück an der Schule. Nachmittags haben die Kinder Freizeit und können verschiedenen Aktivitäten in der betreuten Ferienzeit nachgehen. \r\n\r\nPackliste:\r\nBadehose/Badeanzug\r\nHandtuch\r\nShampoo\r\nTüte für nasse Sachen\r\nVesper+Trinken\r\nBadelatschen\r\nRucksack
URL;VALUE=URI:https://www.unser-ferienprogramm.de/radolfzell/veranstaltung.php?id=302962
SUMMARY:Schwimmunterricht in der Ferienzeit Sommerferien 1. und 2. Woche
DTSTART;TZID=Europe/Berlin:20260805T080000
END:VEVENT


BEGIN:VEVENT
DTEND;TZID=Europe/Berlin:20260806T160000
UID:69e8f6b283f6a3
DTSTAMP:20260422T182626
LOCATION:Tegging
DESCRIPTION:Die Ferienzeit ist eine kommunale Ferienbetreuung für Grundschulkinder\, die in Radolfzell wohnen. Diese Veranstaltung ist besonders sie verbindet Ferienbetreuung und Schwimmunterricht.\r\n\r\nDie Kinder kommen morgens zur Teggingerschule.\r\nGemeinsam fahren wir nach Konstanz zum Schwaketenbad. Dort geben die Lehrerinnen des Schwimmvereines Sparta Konstanz e. V. 45 Minuten Schwimmunterricht. Zum Mittagessen sind wir zurück an der Schule. Nachmittags haben die Kinder Freizeit und können verschiedenen Aktivitäten in der betreuten Ferienzeit nachgehen. \r\n\r\nPackliste:\r\nBadehose/Badeanzug\r\nHandtuch\r\nShampoo\r\nTüte für nasse Sachen\r\nVesper+Trinken\r\nBadelatschen\r\nRucksack
URL;VALUE=URI:https://www.unser-ferienprogramm.de/radolfzell/veranstaltung.php?id=302962
SUMMARY:Schwimmunterricht in der Ferienzeit Sommerferien 1. und 2. Woche
DTSTART;TZID=Europe/Berlin:20260806T080000
END:VEVENT


BEGIN:VEVENT
DTEND;TZID=Europe/Berlin:20260807T160000
UID:69e8f6b283f754
DTSTAMP:20260422T182626
LOCATION:Tegging
DESCRIPTION:Die Ferienzeit ist eine kommunale Ferienbetreuung für Grundschulkinder\, die in Radolfzell wohnen. Diese Veranstaltung ist besonders sie verbindet Ferienbetreuung und Schwimmunterricht.\r\n\r\nDie Kinder kommen morgens zur Teggingerschule.\r\nGemeinsam fahren wir nach Konstanz zum Schwaketenbad. Dort geben die Lehrerinnen des Schwimmvereines Sparta Konstanz e. V. 45 Minuten Schwimmunterricht. Zum Mittagessen sind wir zurück an der Schule. Nachmittags haben die Kinder Freizeit und können verschiedenen Aktivitäten in der betreuten Ferienzeit nachgehen. \r\n\r\nPackliste:\r\nBadehose/Badeanzug\r\nHandtuch\r\nShampoo\r\nTüte für nasse Sachen\r\nVesper+Trinken\r\nBadelatschen\r\nRucksack
URL;VALUE=URI:https://www.unser-ferienprogramm.de/radolfzell/veranstaltung.php?id=302962
SUMMARY:Schwimmunterricht in der Ferienzeit Sommerferien 1. und 2. Woche
DTSTART;TZID=Europe/Berlin:20260807T080000
END:VEVENT


BEGIN:VEVENT
DTEND;TZID=Europe/Berlin:20260810T160000
UID:69e8f6b283f805
DTSTAMP:20260422T182626
LOCATION:Tegging
DESCRIPTION:Die Ferienzeit ist eine kommunale Ferienbetreuung für Grundschulkinder\, die in Radolfzell wohnen. Diese Veranstaltung ist besonders sie verbindet Ferienbetreuung und Schwimmunterricht.\r\n\r\nDie Kinder kommen morgens zur Teggingerschule.\r\nGemeinsam fahren wir nach Konstanz zum Schwaketenbad. Dort geben die Lehrerinnen des Schwimmvereines Sparta Konstanz e. V. 45 Minuten Schwimmunterricht. Zum Mittagessen sind wir zurück an der Schule. Nachmittags haben die Kinder Freizeit und können verschiedenen Aktivitäten in der betreuten Ferienzeit nachgehen. \r\n\r\nPackliste:\r\nBadehose/Badeanzug\r\nHandtuch\r\nShampoo\r\nTüte für nasse Sachen\r\nVesper+Trinken\r\nBadelatschen\r\nRucksack
URL;VALUE=URI:https://www.unser-ferienprogramm.de/radolfzell/veranstaltung.php?id=302962
SUMMARY:Schwimmunterricht in der Ferienzeit Sommerferien 1. und 2. Woche
DTSTART;TZID=Europe/Berlin:20260810T080000
END:VEVENT


BEGIN:VEVENT
DTEND;TZID=Europe/Berlin:20260811T160000
UID:69e8f6b283f8a6
DTSTAMP:20260422T182626
LOCATION:Tegging
DESCRIPTION:Die Ferienzeit ist eine kommunale Ferienbetreuung für Grundschulkinder\, die in Radolfzell wohnen. Diese Veranstaltung ist besonders sie verbindet Ferienbetreuung und Schwimmunterricht.\r\n\r\nDie Kinder kommen morgens zur Teggingerschule.\r\nGemeinsam fahren wir nach Konstanz zum Schwaketenbad. Dort geben die Lehrerinnen des Schwimmvereines Sparta Konstanz e. V. 45 Minuten Schwimmunterricht. Zum Mittagessen sind wir zurück an der Schule. Nachmittags haben die Kinder Freizeit und können verschiedenen Aktivitäten in der betreuten Ferienzeit nachgehen. \r\n\r\nPackliste:\r\nBadehose/Badeanzug\r\nHandtuch\r\nShampoo\r\nTüte für nasse Sachen\r\nVesper+Trinken\r\nBadelatschen\r\nRucksack
URL;VALUE=URI:https://www.unser-ferienprogramm.de/radolfzell/veranstaltung.php?id=302962
SUMMARY:Schwimmunterricht in der Ferienzeit Sommerferien 1. und 2. Woche
DTSTART;TZID=Europe/Berlin:20260811T080000
END:VEVENT


BEGIN:VEVENT
DTEND;TZID=Europe/Berlin:20260812T160000
UID:69e8f6b283f957
DTSTAMP:20260422T182626
LOCATION:Tegging
DESCRIPTION:Die Ferienzeit ist eine kommunale Ferienbetreuung für Grundschulkinder\, die in Radolfzell wohnen. Diese Veranstaltung ist besonders sie verbindet Ferienbetreuung und Schwimmunterricht.\r\n\r\nDie Kinder kommen morgens zur Teggingerschule.\r\nGemeinsam fahren wir nach Konstanz zum Schwaketenbad. Dort geben die Lehrerinnen des Schwimmvereines Sparta Konstanz e. V. 45 Minuten Schwimmunterricht. Zum Mittagessen sind wir zurück an der Schule. Nachmittags haben die Kinder Freizeit und können verschiedenen Aktivitäten in der betreuten Ferienzeit nachgehen. \r\n\r\nPackliste:\r\nBadehose/Badeanzug\r\nHandtuch\r\nShampoo\r\nTüte für nasse Sachen\r\nVesper+Trinken\r\nBadelatschen\r\nRucksack
URL;VALUE=URI:https://www.unser-ferienprogramm.de/radolfzell/veranstaltung.php?id=302962
SUMMARY:Schwimmunterricht in der Ferienzeit Sommerferien 1. und 2. Woche
DTSTART;TZID=Europe/Berlin:20260812T080000
END:VEVENT


BEGIN:VEVENT
DTEND;TZID=Europe/Berlin:20260813T160000
UID:69e8f6b283f9f8
DTSTAMP:20260422T182626
LOCATION:Tegging
DESCRIPTION:Die Ferienzeit ist eine kommunale Ferienbetreuung für Grundschulkinder\, die in Radolfzell wohnen. Diese Veranstaltung ist besonders sie verbindet Ferienbetreuung und Schwimmunterricht.\r\n\r\nDie Kinder kommen morgens zur Teggingerschule.\r\nGemeinsam fahren wir nach Konstanz zum Schwaketenbad. Dort geben die Lehrerinnen des Schwimmvereines Sparta Konstanz e. V. 45 Minuten Schwimmunterricht. Zum Mittagessen sind wir zurück an der Schule. Nachmittags haben die Kinder Freizeit und können verschiedenen Aktivitäten in der betreuten Ferienzeit nachgehen. \r\n\r\nPackliste:\r\nBadehose/Badeanzug\r\nHandtuch\r\nShampoo\r\nTüte für nasse Sachen\r\nVesper+Trinken\r\nBadelatschen\r\nRucksack
URL;VALUE=URI:https://www.unser-ferienprogramm.de/radolfzell/veranstaltung.php?id=302962
SUMMARY:Schwimmunterricht in der Ferienzeit Sommerferien 1. und 2. Woche
DTSTART;TZID=Europe/Berlin:20260813T080000
END:VEVENT


BEGIN:VEVENT
DTEND;TZID=Europe/Berlin:20260814T160000
UID:69e8f6b283faa9
DTSTAMP:20260422T182626
LOCATION:Tegging
DESCRIPTION:Die Ferienzeit ist eine kommunale Ferienbetreuung für Grundschulkinder\, die in Radolfzell wohnen. Diese Veranstaltung ist besonders sie verbindet Ferienbetreuung und Schwimmunterricht.\r\n\r\nDie Kinder kommen morgens zur Teggingerschule.\r\nGemeinsam fahren wir nach Konstanz zum Schwaketenbad. Dort geben die Lehrerinnen des Schwimmvereines Sparta Konstanz e. V. 45 Minuten Schwimmunterricht. Zum Mittagessen sind wir zurück an der Schule. Nachmittags haben die Kinder Freizeit und können verschiedenen Aktivitäten in der betreuten Ferienzeit nachgehen. \r\n\r\nPackliste:\r\nBadehose/Badeanzug\r\nHandtuch\r\nShampoo\r\nTüte für nasse Sachen\r\nVesper+Trinken\r\nBadelatschen\r\nRucksack
URL;VALUE=URI:https://www.unser-ferienprogramm.de/radolfzell/veranstaltung.php?id=302962
SUMMARY:Schwimmunterricht in der Ferienzeit Sommerferien 1. und 2. Woche
DTSTART;TZID=Europe/Berlin:20260814T080000
END:VEVENT

END:VCALENDAR
