BEGIN:VCALENDAR
VERSION:2.0
PRODID:-//hacksw/handcal//NONSGML v1.0//EN
CALSCALE:GREGORIAN
BEGIN:VTIMEZONE
TZID:Europe/Berlin
X-LIC-LOCATION:Europe/Berlin
BEGIN:DAYLIGHT
TZOFFSETFROM:+0100
TZOFFSETTO:+0200
TZNAME:CEST
DTSTART:19700329T020000
RRULE:FREQ=YEARLY;BYDAY=-1SU;BYMONTH=3
END:DAYLIGHT
BEGIN:STANDARD
TZOFFSETFROM:+0200
TZOFFSETTO:+0100
TZNAME:CET
DTSTART:19701025T030000
RRULE:FREQ=YEARLY;BYDAY=-1SU;BYMONTH=10
END:STANDARD
END:VTIMEZONE
BEGIN:VEVENT
DTEND;TZID=Europe/Berlin:20260914T160000
UID:69e8fb008c5a2
DTSTAMP:20260422T184448
LOCATION:Mensa Ratoldusschule
DESCRIPTION:Die Ferienbetreuung der Kinderzeit ist der Ort für Ihre Kinder um sich mit Freunden zu treffen.\r\nWir haben alle Angebote so geplant\, dass Ihre Kinder viel Spiel\, Spass und Vergnügen haben.\r\nEs sind verschiedene Bewegungs\,- Kreativ\, - Spielangebote im Programm und sind speziell auf die Bedürfnisse der Kinder aufgebaut.\r\nEbenso arbeiten wir mit den Kindern im Partizipativen Prozess und gestalten so die Erlebnispädagogischen Angebote im Umfeld von Radolfzell. 
URL;VALUE=URI:https://www.unser-ferienprogramm.de/radolfzell/veranstaltung.php?id=295868
SUMMARY:Ferienzeit Ferienbetreuung für kommende Erstklässler
DTSTART;TZID=Europe/Berlin:20260914T080000
END:VEVENT


BEGIN:VEVENT
DTEND;TZID=Europe/Berlin:20260915T160000
UID:69e8fb008c5ea1
DTSTAMP:20260422T184448
LOCATION:Mensa Ratoldusschule
DESCRIPTION:Die Ferienbetreuung der Kinderzeit ist der Ort für Ihre Kinder um sich mit Freunden zu treffen.\r\nWir haben alle Angebote so geplant\, dass Ihre Kinder viel Spiel\, Spass und Vergnügen haben.\r\nEs sind verschiedene Bewegungs\,- Kreativ\, - Spielangebote im Programm und sind speziell auf die Bedürfnisse der Kinder aufgebaut.\r\nEbenso arbeiten wir mit den Kindern im Partizipativen Prozess und gestalten so die Erlebnispädagogischen Angebote im Umfeld von Radolfzell. 
URL;VALUE=URI:https://www.unser-ferienprogramm.de/radolfzell/veranstaltung.php?id=295868
SUMMARY:Ferienzeit Ferienbetreuung für kommende Erstklässler
DTSTART;TZID=Europe/Berlin:20260915T080000
END:VEVENT


BEGIN:VEVENT
DTEND;TZID=Europe/Berlin:20260916T160000
UID:69e8fb008c5f82
DTSTAMP:20260422T184448
LOCATION:Mensa Ratoldusschule
DESCRIPTION:Die Ferienbetreuung der Kinderzeit ist der Ort für Ihre Kinder um sich mit Freunden zu treffen.\r\nWir haben alle Angebote so geplant\, dass Ihre Kinder viel Spiel\, Spass und Vergnügen haben.\r\nEs sind verschiedene Bewegungs\,- Kreativ\, - Spielangebote im Programm und sind speziell auf die Bedürfnisse der Kinder aufgebaut.\r\nEbenso arbeiten wir mit den Kindern im Partizipativen Prozess und gestalten so die Erlebnispädagogischen Angebote im Umfeld von Radolfzell. 
URL;VALUE=URI:https://www.unser-ferienprogramm.de/radolfzell/veranstaltung.php?id=295868
SUMMARY:Ferienzeit Ferienbetreuung für kommende Erstklässler
DTSTART;TZID=Europe/Berlin:20260916T080000
END:VEVENT


BEGIN:VEVENT
DTEND;TZID=Europe/Berlin:20260917T160000
UID:69e8fb008c6043
DTSTAMP:20260422T184448
LOCATION:Mensa Ratoldusschule
DESCRIPTION:Die Ferienbetreuung der Kinderzeit ist der Ort für Ihre Kinder um sich mit Freunden zu treffen.\r\nWir haben alle Angebote so geplant\, dass Ihre Kinder viel Spiel\, Spass und Vergnügen haben.\r\nEs sind verschiedene Bewegungs\,- Kreativ\, - Spielangebote im Programm und sind speziell auf die Bedürfnisse der Kinder aufgebaut.\r\nEbenso arbeiten wir mit den Kindern im Partizipativen Prozess und gestalten so die Erlebnispädagogischen Angebote im Umfeld von Radolfzell. 
URL;VALUE=URI:https://www.unser-ferienprogramm.de/radolfzell/veranstaltung.php?id=295868
SUMMARY:Ferienzeit Ferienbetreuung für kommende Erstklässler
DTSTART;TZID=Europe/Berlin:20260917T080000
END:VEVENT


BEGIN:VEVENT
DTEND;TZID=Europe/Berlin:20260918T160000
UID:69e8fb008c60d4
DTSTAMP:20260422T184448
LOCATION:Mensa Ratoldusschule
DESCRIPTION:Die Ferienbetreuung der Kinderzeit ist der Ort für Ihre Kinder um sich mit Freunden zu treffen.\r\nWir haben alle Angebote so geplant\, dass Ihre Kinder viel Spiel\, Spass und Vergnügen haben.\r\nEs sind verschiedene Bewegungs\,- Kreativ\, - Spielangebote im Programm und sind speziell auf die Bedürfnisse der Kinder aufgebaut.\r\nEbenso arbeiten wir mit den Kindern im Partizipativen Prozess und gestalten so die Erlebnispädagogischen Angebote im Umfeld von Radolfzell. 
URL;VALUE=URI:https://www.unser-ferienprogramm.de/radolfzell/veranstaltung.php?id=295868
SUMMARY:Ferienzeit Ferienbetreuung für kommende Erstklässler
DTSTART;TZID=Europe/Berlin:20260918T080000
END:VEVENT

END:VCALENDAR
