BEGIN:VCALENDAR
VERSION:2.0
PRODID:-//hacksw/handcal//NONSGML v1.0//EN
CALSCALE:GREGORIAN
BEGIN:VTIMEZONE
TZID:Europe/Berlin
X-LIC-LOCATION:Europe/Berlin
BEGIN:DAYLIGHT
TZOFFSETFROM:+0100
TZOFFSETTO:+0200
TZNAME:CEST
DTSTART:19700329T020000
RRULE:FREQ=YEARLY;BYDAY=-1SU;BYMONTH=3
END:DAYLIGHT
BEGIN:STANDARD
TZOFFSETFROM:+0200
TZOFFSETTO:+0100
TZNAME:CET
DTSTART:19701025T030000
RRULE:FREQ=YEARLY;BYDAY=-1SU;BYMONTH=10
END:STANDARD
END:VTIMEZONE
BEGIN:VEVENT
DTEND;TZID=Europe/Berlin:20260831T160000
UID:69e8fabc60253
DTSTAMP:20260422T184340
LOCATION:
DESCRIPTION:Nach einem schönen Vormittag mit verschiedenen Aktivitäten kommen alle Kinder an der Teggingerschule zum Essen zusammen. Etwas warmes zu Essen tut gut.\r\n\r\nEssensbuchung ist nur über diese Veranstaltung möglich!\r\n\r\nEine tageweise Auswahl ist nicht mehr möglich. Es wird auch kein Bargeld mehr eingesammelt. Suppe\, Grillen\, Pizza o.ä. sind in in dieser Veranstaltung inbegriffen und können nicht mehr separat gebucht werden.\r\n\r\nDas Essen wird bestellt. Langfristig soll wieder eine tageweise Buchung und Auswahl ermöglicht werden. Bis dahin wird es drei Tage geben an denen es für alle vegetarisches Essen gibt. Mit der Buchung legen sie fest ob Ihr Kind an den anderen Tagen sich vegetarisch oder fleischlich ernährt.\r\n
URL;VALUE=URI:https://www.unser-ferienprogramm.de/radolfzell/veranstaltung.php?id=295865
SUMMARY:Ferienzeit Buchung für Mittagessen Sommerferienwoche 5. und 6. Woche
DTSTART;TZID=Europe/Berlin:20260831T080000
END:VEVENT


BEGIN:VEVENT
DTEND;TZID=Europe/Berlin:20260901T160000
UID:69e8fabc6026f1
DTSTAMP:20260422T184340
LOCATION:
DESCRIPTION:Nach einem schönen Vormittag mit verschiedenen Aktivitäten kommen alle Kinder an der Teggingerschule zum Essen zusammen. Etwas warmes zu Essen tut gut.\r\n\r\nEssensbuchung ist nur über diese Veranstaltung möglich!\r\n\r\nEine tageweise Auswahl ist nicht mehr möglich. Es wird auch kein Bargeld mehr eingesammelt. Suppe\, Grillen\, Pizza o.ä. sind in in dieser Veranstaltung inbegriffen und können nicht mehr separat gebucht werden.\r\n\r\nDas Essen wird bestellt. Langfristig soll wieder eine tageweise Buchung und Auswahl ermöglicht werden. Bis dahin wird es drei Tage geben an denen es für alle vegetarisches Essen gibt. Mit der Buchung legen sie fest ob Ihr Kind an den anderen Tagen sich vegetarisch oder fleischlich ernährt.\r\n
URL;VALUE=URI:https://www.unser-ferienprogramm.de/radolfzell/veranstaltung.php?id=295865
SUMMARY:Ferienzeit Buchung für Mittagessen Sommerferienwoche 5. und 6. Woche
DTSTART;TZID=Europe/Berlin:20260901T080000
END:VEVENT


BEGIN:VEVENT
DTEND;TZID=Europe/Berlin:20260902T160000
UID:69e8fabc602802
DTSTAMP:20260422T184340
LOCATION:
DESCRIPTION:Nach einem schönen Vormittag mit verschiedenen Aktivitäten kommen alle Kinder an der Teggingerschule zum Essen zusammen. Etwas warmes zu Essen tut gut.\r\n\r\nEssensbuchung ist nur über diese Veranstaltung möglich!\r\n\r\nEine tageweise Auswahl ist nicht mehr möglich. Es wird auch kein Bargeld mehr eingesammelt. Suppe\, Grillen\, Pizza o.ä. sind in in dieser Veranstaltung inbegriffen und können nicht mehr separat gebucht werden.\r\n\r\nDas Essen wird bestellt. Langfristig soll wieder eine tageweise Buchung und Auswahl ermöglicht werden. Bis dahin wird es drei Tage geben an denen es für alle vegetarisches Essen gibt. Mit der Buchung legen sie fest ob Ihr Kind an den anderen Tagen sich vegetarisch oder fleischlich ernährt.\r\n
URL;VALUE=URI:https://www.unser-ferienprogramm.de/radolfzell/veranstaltung.php?id=295865
SUMMARY:Ferienzeit Buchung für Mittagessen Sommerferienwoche 5. und 6. Woche
DTSTART;TZID=Europe/Berlin:20260902T080000
END:VEVENT


BEGIN:VEVENT
DTEND;TZID=Europe/Berlin:20260903T160000
UID:69e8fabc6028d3
DTSTAMP:20260422T184340
LOCATION:
DESCRIPTION:Nach einem schönen Vormittag mit verschiedenen Aktivitäten kommen alle Kinder an der Teggingerschule zum Essen zusammen. Etwas warmes zu Essen tut gut.\r\n\r\nEssensbuchung ist nur über diese Veranstaltung möglich!\r\n\r\nEine tageweise Auswahl ist nicht mehr möglich. Es wird auch kein Bargeld mehr eingesammelt. Suppe\, Grillen\, Pizza o.ä. sind in in dieser Veranstaltung inbegriffen und können nicht mehr separat gebucht werden.\r\n\r\nDas Essen wird bestellt. Langfristig soll wieder eine tageweise Buchung und Auswahl ermöglicht werden. Bis dahin wird es drei Tage geben an denen es für alle vegetarisches Essen gibt. Mit der Buchung legen sie fest ob Ihr Kind an den anderen Tagen sich vegetarisch oder fleischlich ernährt.\r\n
URL;VALUE=URI:https://www.unser-ferienprogramm.de/radolfzell/veranstaltung.php?id=295865
SUMMARY:Ferienzeit Buchung für Mittagessen Sommerferienwoche 5. und 6. Woche
DTSTART;TZID=Europe/Berlin:20260903T080000
END:VEVENT


BEGIN:VEVENT
DTEND;TZID=Europe/Berlin:20260904T160000
UID:69e8fabc602994
DTSTAMP:20260422T184340
LOCATION:
DESCRIPTION:Nach einem schönen Vormittag mit verschiedenen Aktivitäten kommen alle Kinder an der Teggingerschule zum Essen zusammen. Etwas warmes zu Essen tut gut.\r\n\r\nEssensbuchung ist nur über diese Veranstaltung möglich!\r\n\r\nEine tageweise Auswahl ist nicht mehr möglich. Es wird auch kein Bargeld mehr eingesammelt. Suppe\, Grillen\, Pizza o.ä. sind in in dieser Veranstaltung inbegriffen und können nicht mehr separat gebucht werden.\r\n\r\nDas Essen wird bestellt. Langfristig soll wieder eine tageweise Buchung und Auswahl ermöglicht werden. Bis dahin wird es drei Tage geben an denen es für alle vegetarisches Essen gibt. Mit der Buchung legen sie fest ob Ihr Kind an den anderen Tagen sich vegetarisch oder fleischlich ernährt.\r\n
URL;VALUE=URI:https://www.unser-ferienprogramm.de/radolfzell/veranstaltung.php?id=295865
SUMMARY:Ferienzeit Buchung für Mittagessen Sommerferienwoche 5. und 6. Woche
DTSTART;TZID=Europe/Berlin:20260904T080000
END:VEVENT


BEGIN:VEVENT
DTEND;TZID=Europe/Berlin:20260907T160000
UID:69e8fabc602a55
DTSTAMP:20260422T184340
LOCATION:
DESCRIPTION:Nach einem schönen Vormittag mit verschiedenen Aktivitäten kommen alle Kinder an der Teggingerschule zum Essen zusammen. Etwas warmes zu Essen tut gut.\r\n\r\nEssensbuchung ist nur über diese Veranstaltung möglich!\r\n\r\nEine tageweise Auswahl ist nicht mehr möglich. Es wird auch kein Bargeld mehr eingesammelt. Suppe\, Grillen\, Pizza o.ä. sind in in dieser Veranstaltung inbegriffen und können nicht mehr separat gebucht werden.\r\n\r\nDas Essen wird bestellt. Langfristig soll wieder eine tageweise Buchung und Auswahl ermöglicht werden. Bis dahin wird es drei Tage geben an denen es für alle vegetarisches Essen gibt. Mit der Buchung legen sie fest ob Ihr Kind an den anderen Tagen sich vegetarisch oder fleischlich ernährt.\r\n
URL;VALUE=URI:https://www.unser-ferienprogramm.de/radolfzell/veranstaltung.php?id=295865
SUMMARY:Ferienzeit Buchung für Mittagessen Sommerferienwoche 5. und 6. Woche
DTSTART;TZID=Europe/Berlin:20260907T080000
END:VEVENT


BEGIN:VEVENT
DTEND;TZID=Europe/Berlin:20260908T160000
UID:69e8fabc602b36
DTSTAMP:20260422T184340
LOCATION:
DESCRIPTION:Nach einem schönen Vormittag mit verschiedenen Aktivitäten kommen alle Kinder an der Teggingerschule zum Essen zusammen. Etwas warmes zu Essen tut gut.\r\n\r\nEssensbuchung ist nur über diese Veranstaltung möglich!\r\n\r\nEine tageweise Auswahl ist nicht mehr möglich. Es wird auch kein Bargeld mehr eingesammelt. Suppe\, Grillen\, Pizza o.ä. sind in in dieser Veranstaltung inbegriffen und können nicht mehr separat gebucht werden.\r\n\r\nDas Essen wird bestellt. Langfristig soll wieder eine tageweise Buchung und Auswahl ermöglicht werden. Bis dahin wird es drei Tage geben an denen es für alle vegetarisches Essen gibt. Mit der Buchung legen sie fest ob Ihr Kind an den anderen Tagen sich vegetarisch oder fleischlich ernährt.\r\n
URL;VALUE=URI:https://www.unser-ferienprogramm.de/radolfzell/veranstaltung.php?id=295865
SUMMARY:Ferienzeit Buchung für Mittagessen Sommerferienwoche 5. und 6. Woche
DTSTART;TZID=Europe/Berlin:20260908T080000
END:VEVENT


BEGIN:VEVENT
DTEND;TZID=Europe/Berlin:20260909T160000
UID:69e8fabc602c07
DTSTAMP:20260422T184340
LOCATION:
DESCRIPTION:Nach einem schönen Vormittag mit verschiedenen Aktivitäten kommen alle Kinder an der Teggingerschule zum Essen zusammen. Etwas warmes zu Essen tut gut.\r\n\r\nEssensbuchung ist nur über diese Veranstaltung möglich!\r\n\r\nEine tageweise Auswahl ist nicht mehr möglich. Es wird auch kein Bargeld mehr eingesammelt. Suppe\, Grillen\, Pizza o.ä. sind in in dieser Veranstaltung inbegriffen und können nicht mehr separat gebucht werden.\r\n\r\nDas Essen wird bestellt. Langfristig soll wieder eine tageweise Buchung und Auswahl ermöglicht werden. Bis dahin wird es drei Tage geben an denen es für alle vegetarisches Essen gibt. Mit der Buchung legen sie fest ob Ihr Kind an den anderen Tagen sich vegetarisch oder fleischlich ernährt.\r\n
URL;VALUE=URI:https://www.unser-ferienprogramm.de/radolfzell/veranstaltung.php?id=295865
SUMMARY:Ferienzeit Buchung für Mittagessen Sommerferienwoche 5. und 6. Woche
DTSTART;TZID=Europe/Berlin:20260909T080000
END:VEVENT


BEGIN:VEVENT
DTEND;TZID=Europe/Berlin:20260910T160000
UID:69e8fabc602cc8
DTSTAMP:20260422T184340
LOCATION:
DESCRIPTION:Nach einem schönen Vormittag mit verschiedenen Aktivitäten kommen alle Kinder an der Teggingerschule zum Essen zusammen. Etwas warmes zu Essen tut gut.\r\n\r\nEssensbuchung ist nur über diese Veranstaltung möglich!\r\n\r\nEine tageweise Auswahl ist nicht mehr möglich. Es wird auch kein Bargeld mehr eingesammelt. Suppe\, Grillen\, Pizza o.ä. sind in in dieser Veranstaltung inbegriffen und können nicht mehr separat gebucht werden.\r\n\r\nDas Essen wird bestellt. Langfristig soll wieder eine tageweise Buchung und Auswahl ermöglicht werden. Bis dahin wird es drei Tage geben an denen es für alle vegetarisches Essen gibt. Mit der Buchung legen sie fest ob Ihr Kind an den anderen Tagen sich vegetarisch oder fleischlich ernährt.\r\n
URL;VALUE=URI:https://www.unser-ferienprogramm.de/radolfzell/veranstaltung.php?id=295865
SUMMARY:Ferienzeit Buchung für Mittagessen Sommerferienwoche 5. und 6. Woche
DTSTART;TZID=Europe/Berlin:20260910T080000
END:VEVENT


BEGIN:VEVENT
DTEND;TZID=Europe/Berlin:20260911T160000
UID:69e8fabc602d99
DTSTAMP:20260422T184340
LOCATION:
DESCRIPTION:Nach einem schönen Vormittag mit verschiedenen Aktivitäten kommen alle Kinder an der Teggingerschule zum Essen zusammen. Etwas warmes zu Essen tut gut.\r\n\r\nEssensbuchung ist nur über diese Veranstaltung möglich!\r\n\r\nEine tageweise Auswahl ist nicht mehr möglich. Es wird auch kein Bargeld mehr eingesammelt. Suppe\, Grillen\, Pizza o.ä. sind in in dieser Veranstaltung inbegriffen und können nicht mehr separat gebucht werden.\r\n\r\nDas Essen wird bestellt. Langfristig soll wieder eine tageweise Buchung und Auswahl ermöglicht werden. Bis dahin wird es drei Tage geben an denen es für alle vegetarisches Essen gibt. Mit der Buchung legen sie fest ob Ihr Kind an den anderen Tagen sich vegetarisch oder fleischlich ernährt.\r\n
URL;VALUE=URI:https://www.unser-ferienprogramm.de/radolfzell/veranstaltung.php?id=295865
SUMMARY:Ferienzeit Buchung für Mittagessen Sommerferienwoche 5. und 6. Woche
DTSTART;TZID=Europe/Berlin:20260911T080000
END:VEVENT

END:VCALENDAR
