BEGIN:VCALENDAR
VERSION:2.0
PRODID:-//hacksw/handcal//NONSGML v1.0//EN
CALSCALE:GREGORIAN
BEGIN:VTIMEZONE
TZID:Europe/Berlin
X-LIC-LOCATION:Europe/Berlin
BEGIN:DAYLIGHT
TZOFFSETFROM:+0100
TZOFFSETTO:+0200
TZNAME:CEST
DTSTART:19700329T020000
RRULE:FREQ=YEARLY;BYDAY=-1SU;BYMONTH=3
END:DAYLIGHT
BEGIN:STANDARD
TZOFFSETFROM:+0200
TZOFFSETTO:+0100
TZNAME:CET
DTSTART:19701025T030000
RRULE:FREQ=YEARLY;BYDAY=-1SU;BYMONTH=10
END:STANDARD
END:VTIMEZONE
BEGIN:VEVENT
DTEND;TZID=Europe/Berlin:20260817T160000
UID:69e8fabbd8809
DTSTAMP:20260422T184339
LOCATION:
DESCRIPTION:Nach einem schönen Vormittag mit verschiedenen Aktivitäten kommen alle Kinder an der Teggingerschule zum Essen zusammen. Etwas warmes zu Essen tut gut.\r\n\r\nEssensbuchung ist nur über diese Veranstaltung möglich!\r\n\r\nEine tageweise Auswahl ist nicht mehr möglich. Es wird auch kein Bargeld mehr eingesammelt. Suppe\, Grillen\, Pizza o.ä. sind in in dieser Veranstaltung inbegriffen und können nicht mehr separat gebucht werden.\r\n\r\nDas Essen wird bestellt. Langfristig soll wieder eine tageweise Buchung und Auswahl ermöglicht werden. Bis dahin wird es drei Tage geben an denen es für alle vegetarisches Essen gibt. Mit der Buchung legen sie fest ob Ihr Kind an den anderen Tagen sich vegetarisch oder fleischlich ernährt.\r\n
URL;VALUE=URI:https://www.unser-ferienprogramm.de/radolfzell/veranstaltung.php?id=295864
SUMMARY:Ferienzeit Buchung für Mittagessen Sommerferienwoche 3. und 4. Woche
DTSTART;TZID=Europe/Berlin:20260817T080000
END:VEVENT


BEGIN:VEVENT
DTEND;TZID=Europe/Berlin:20260818T160000
UID:69e8fabbd884c1
DTSTAMP:20260422T184339
LOCATION:
DESCRIPTION:Nach einem schönen Vormittag mit verschiedenen Aktivitäten kommen alle Kinder an der Teggingerschule zum Essen zusammen. Etwas warmes zu Essen tut gut.\r\n\r\nEssensbuchung ist nur über diese Veranstaltung möglich!\r\n\r\nEine tageweise Auswahl ist nicht mehr möglich. Es wird auch kein Bargeld mehr eingesammelt. Suppe\, Grillen\, Pizza o.ä. sind in in dieser Veranstaltung inbegriffen und können nicht mehr separat gebucht werden.\r\n\r\nDas Essen wird bestellt. Langfristig soll wieder eine tageweise Buchung und Auswahl ermöglicht werden. Bis dahin wird es drei Tage geben an denen es für alle vegetarisches Essen gibt. Mit der Buchung legen sie fest ob Ihr Kind an den anderen Tagen sich vegetarisch oder fleischlich ernährt.\r\n
URL;VALUE=URI:https://www.unser-ferienprogramm.de/radolfzell/veranstaltung.php?id=295864
SUMMARY:Ferienzeit Buchung für Mittagessen Sommerferienwoche 3. und 4. Woche
DTSTART;TZID=Europe/Berlin:20260818T080000
END:VEVENT


BEGIN:VEVENT
DTEND;TZID=Europe/Berlin:20260819T160000
UID:69e8fabbd885e2
DTSTAMP:20260422T184339
LOCATION:
DESCRIPTION:Nach einem schönen Vormittag mit verschiedenen Aktivitäten kommen alle Kinder an der Teggingerschule zum Essen zusammen. Etwas warmes zu Essen tut gut.\r\n\r\nEssensbuchung ist nur über diese Veranstaltung möglich!\r\n\r\nEine tageweise Auswahl ist nicht mehr möglich. Es wird auch kein Bargeld mehr eingesammelt. Suppe\, Grillen\, Pizza o.ä. sind in in dieser Veranstaltung inbegriffen und können nicht mehr separat gebucht werden.\r\n\r\nDas Essen wird bestellt. Langfristig soll wieder eine tageweise Buchung und Auswahl ermöglicht werden. Bis dahin wird es drei Tage geben an denen es für alle vegetarisches Essen gibt. Mit der Buchung legen sie fest ob Ihr Kind an den anderen Tagen sich vegetarisch oder fleischlich ernährt.\r\n
URL;VALUE=URI:https://www.unser-ferienprogramm.de/radolfzell/veranstaltung.php?id=295864
SUMMARY:Ferienzeit Buchung für Mittagessen Sommerferienwoche 3. und 4. Woche
DTSTART;TZID=Europe/Berlin:20260819T080000
END:VEVENT


BEGIN:VEVENT
DTEND;TZID=Europe/Berlin:20260820T160000
UID:69e8fabbd886d3
DTSTAMP:20260422T184339
LOCATION:
DESCRIPTION:Nach einem schönen Vormittag mit verschiedenen Aktivitäten kommen alle Kinder an der Teggingerschule zum Essen zusammen. Etwas warmes zu Essen tut gut.\r\n\r\nEssensbuchung ist nur über diese Veranstaltung möglich!\r\n\r\nEine tageweise Auswahl ist nicht mehr möglich. Es wird auch kein Bargeld mehr eingesammelt. Suppe\, Grillen\, Pizza o.ä. sind in in dieser Veranstaltung inbegriffen und können nicht mehr separat gebucht werden.\r\n\r\nDas Essen wird bestellt. Langfristig soll wieder eine tageweise Buchung und Auswahl ermöglicht werden. Bis dahin wird es drei Tage geben an denen es für alle vegetarisches Essen gibt. Mit der Buchung legen sie fest ob Ihr Kind an den anderen Tagen sich vegetarisch oder fleischlich ernährt.\r\n
URL;VALUE=URI:https://www.unser-ferienprogramm.de/radolfzell/veranstaltung.php?id=295864
SUMMARY:Ferienzeit Buchung für Mittagessen Sommerferienwoche 3. und 4. Woche
DTSTART;TZID=Europe/Berlin:20260820T080000
END:VEVENT


BEGIN:VEVENT
DTEND;TZID=Europe/Berlin:20260821T160000
UID:69e8fabbd88794
DTSTAMP:20260422T184339
LOCATION:
DESCRIPTION:Nach einem schönen Vormittag mit verschiedenen Aktivitäten kommen alle Kinder an der Teggingerschule zum Essen zusammen. Etwas warmes zu Essen tut gut.\r\n\r\nEssensbuchung ist nur über diese Veranstaltung möglich!\r\n\r\nEine tageweise Auswahl ist nicht mehr möglich. Es wird auch kein Bargeld mehr eingesammelt. Suppe\, Grillen\, Pizza o.ä. sind in in dieser Veranstaltung inbegriffen und können nicht mehr separat gebucht werden.\r\n\r\nDas Essen wird bestellt. Langfristig soll wieder eine tageweise Buchung und Auswahl ermöglicht werden. Bis dahin wird es drei Tage geben an denen es für alle vegetarisches Essen gibt. Mit der Buchung legen sie fest ob Ihr Kind an den anderen Tagen sich vegetarisch oder fleischlich ernährt.\r\n
URL;VALUE=URI:https://www.unser-ferienprogramm.de/radolfzell/veranstaltung.php?id=295864
SUMMARY:Ferienzeit Buchung für Mittagessen Sommerferienwoche 3. und 4. Woche
DTSTART;TZID=Europe/Berlin:20260821T080000
END:VEVENT


BEGIN:VEVENT
DTEND;TZID=Europe/Berlin:20260824T160000
UID:69e8fabbd88865
DTSTAMP:20260422T184339
LOCATION:
DESCRIPTION:Nach einem schönen Vormittag mit verschiedenen Aktivitäten kommen alle Kinder an der Teggingerschule zum Essen zusammen. Etwas warmes zu Essen tut gut.\r\n\r\nEssensbuchung ist nur über diese Veranstaltung möglich!\r\n\r\nEine tageweise Auswahl ist nicht mehr möglich. Es wird auch kein Bargeld mehr eingesammelt. Suppe\, Grillen\, Pizza o.ä. sind in in dieser Veranstaltung inbegriffen und können nicht mehr separat gebucht werden.\r\n\r\nDas Essen wird bestellt. Langfristig soll wieder eine tageweise Buchung und Auswahl ermöglicht werden. Bis dahin wird es drei Tage geben an denen es für alle vegetarisches Essen gibt. Mit der Buchung legen sie fest ob Ihr Kind an den anderen Tagen sich vegetarisch oder fleischlich ernährt.\r\n
URL;VALUE=URI:https://www.unser-ferienprogramm.de/radolfzell/veranstaltung.php?id=295864
SUMMARY:Ferienzeit Buchung für Mittagessen Sommerferienwoche 3. und 4. Woche
DTSTART;TZID=Europe/Berlin:20260824T080000
END:VEVENT


BEGIN:VEVENT
DTEND;TZID=Europe/Berlin:20260825T160000
UID:69e8fabbd88916
DTSTAMP:20260422T184339
LOCATION:
DESCRIPTION:Nach einem schönen Vormittag mit verschiedenen Aktivitäten kommen alle Kinder an der Teggingerschule zum Essen zusammen. Etwas warmes zu Essen tut gut.\r\n\r\nEssensbuchung ist nur über diese Veranstaltung möglich!\r\n\r\nEine tageweise Auswahl ist nicht mehr möglich. Es wird auch kein Bargeld mehr eingesammelt. Suppe\, Grillen\, Pizza o.ä. sind in in dieser Veranstaltung inbegriffen und können nicht mehr separat gebucht werden.\r\n\r\nDas Essen wird bestellt. Langfristig soll wieder eine tageweise Buchung und Auswahl ermöglicht werden. Bis dahin wird es drei Tage geben an denen es für alle vegetarisches Essen gibt. Mit der Buchung legen sie fest ob Ihr Kind an den anderen Tagen sich vegetarisch oder fleischlich ernährt.\r\n
URL;VALUE=URI:https://www.unser-ferienprogramm.de/radolfzell/veranstaltung.php?id=295864
SUMMARY:Ferienzeit Buchung für Mittagessen Sommerferienwoche 3. und 4. Woche
DTSTART;TZID=Europe/Berlin:20260825T080000
END:VEVENT


BEGIN:VEVENT
DTEND;TZID=Europe/Berlin:20260826T160000
UID:69e8fabbd889d7
DTSTAMP:20260422T184339
LOCATION:
DESCRIPTION:Nach einem schönen Vormittag mit verschiedenen Aktivitäten kommen alle Kinder an der Teggingerschule zum Essen zusammen. Etwas warmes zu Essen tut gut.\r\n\r\nEssensbuchung ist nur über diese Veranstaltung möglich!\r\n\r\nEine tageweise Auswahl ist nicht mehr möglich. Es wird auch kein Bargeld mehr eingesammelt. Suppe\, Grillen\, Pizza o.ä. sind in in dieser Veranstaltung inbegriffen und können nicht mehr separat gebucht werden.\r\n\r\nDas Essen wird bestellt. Langfristig soll wieder eine tageweise Buchung und Auswahl ermöglicht werden. Bis dahin wird es drei Tage geben an denen es für alle vegetarisches Essen gibt. Mit der Buchung legen sie fest ob Ihr Kind an den anderen Tagen sich vegetarisch oder fleischlich ernährt.\r\n
URL;VALUE=URI:https://www.unser-ferienprogramm.de/radolfzell/veranstaltung.php?id=295864
SUMMARY:Ferienzeit Buchung für Mittagessen Sommerferienwoche 3. und 4. Woche
DTSTART;TZID=Europe/Berlin:20260826T080000
END:VEVENT


BEGIN:VEVENT
DTEND;TZID=Europe/Berlin:20260827T160000
UID:69e8fabbd88aa8
DTSTAMP:20260422T184339
LOCATION:
DESCRIPTION:Nach einem schönen Vormittag mit verschiedenen Aktivitäten kommen alle Kinder an der Teggingerschule zum Essen zusammen. Etwas warmes zu Essen tut gut.\r\n\r\nEssensbuchung ist nur über diese Veranstaltung möglich!\r\n\r\nEine tageweise Auswahl ist nicht mehr möglich. Es wird auch kein Bargeld mehr eingesammelt. Suppe\, Grillen\, Pizza o.ä. sind in in dieser Veranstaltung inbegriffen und können nicht mehr separat gebucht werden.\r\n\r\nDas Essen wird bestellt. Langfristig soll wieder eine tageweise Buchung und Auswahl ermöglicht werden. Bis dahin wird es drei Tage geben an denen es für alle vegetarisches Essen gibt. Mit der Buchung legen sie fest ob Ihr Kind an den anderen Tagen sich vegetarisch oder fleischlich ernährt.\r\n
URL;VALUE=URI:https://www.unser-ferienprogramm.de/radolfzell/veranstaltung.php?id=295864
SUMMARY:Ferienzeit Buchung für Mittagessen Sommerferienwoche 3. und 4. Woche
DTSTART;TZID=Europe/Berlin:20260827T080000
END:VEVENT


BEGIN:VEVENT
DTEND;TZID=Europe/Berlin:20260828T160000
UID:69e8fabbd88b69
DTSTAMP:20260422T184339
LOCATION:
DESCRIPTION:Nach einem schönen Vormittag mit verschiedenen Aktivitäten kommen alle Kinder an der Teggingerschule zum Essen zusammen. Etwas warmes zu Essen tut gut.\r\n\r\nEssensbuchung ist nur über diese Veranstaltung möglich!\r\n\r\nEine tageweise Auswahl ist nicht mehr möglich. Es wird auch kein Bargeld mehr eingesammelt. Suppe\, Grillen\, Pizza o.ä. sind in in dieser Veranstaltung inbegriffen und können nicht mehr separat gebucht werden.\r\n\r\nDas Essen wird bestellt. Langfristig soll wieder eine tageweise Buchung und Auswahl ermöglicht werden. Bis dahin wird es drei Tage geben an denen es für alle vegetarisches Essen gibt. Mit der Buchung legen sie fest ob Ihr Kind an den anderen Tagen sich vegetarisch oder fleischlich ernährt.\r\n
URL;VALUE=URI:https://www.unser-ferienprogramm.de/radolfzell/veranstaltung.php?id=295864
SUMMARY:Ferienzeit Buchung für Mittagessen Sommerferienwoche 3. und 4. Woche
DTSTART;TZID=Europe/Berlin:20260828T080000
END:VEVENT

END:VCALENDAR
