BEGIN:VCALENDAR
VERSION:2.0
PRODID:-//hacksw/handcal//NONSGML v1.0//EN
CALSCALE:GREGORIAN
BEGIN:VTIMEZONE
TZID:Europe/Berlin
X-LIC-LOCATION:Europe/Berlin
BEGIN:DAYLIGHT
TZOFFSETFROM:+0100
TZOFFSETTO:+0200
TZNAME:CEST
DTSTART:19700329T020000
RRULE:FREQ=YEARLY;BYDAY=-1SU;BYMONTH=3
END:DAYLIGHT
BEGIN:STANDARD
TZOFFSETFROM:+0200
TZOFFSETTO:+0100
TZNAME:CET
DTSTART:19701025T030000
RRULE:FREQ=YEARLY;BYDAY=-1SU;BYMONTH=10
END:STANDARD
END:VTIMEZONE
BEGIN:VEVENT
DTEND;TZID=Europe/Berlin:20260803T160000
UID:69e8fa82e1f55
DTSTAMP:20260422T184242
LOCATION:
DESCRIPTION:Nach einem schönen Vormittag mit verschiedenen Aktivitäten kommen alle Kinder an der Teggingerschule zum Essen zusammen. Etwas warmes zu Essen tut gut.\r\n\r\nEssensbuchung ist nur über diese Veranstaltung möglich!\r\n\r\nEine tageweise Auswahl ist nicht mehr möglich. Es wird auch kein Bargeld mehr eingesammelt. Suppe\, Grillen\, Pizza o.ä. sind in in dieser Veranstaltung inbegriffen und können nicht mehr separat gebucht werden.\r\n\r\nDas Essen wird bestellt. Langfristig soll wieder eine tageweise Buchung und Auswahl ermöglicht werden. Bis dahin wird es drei Tage geben an denen es für alle vegetarisches Essen gibt. Mit der Buchung legen sie fest ob Ihr Kind an den anderen Tagen sich vegetarisch oder fleischlich ernährt.\r\n
URL;VALUE=URI:https://www.unser-ferienprogramm.de/radolfzell/veranstaltung.php?id=295863
SUMMARY:Ferienzeit Buchung für Mittagessen Sommerferienwoche 1. und 2. Woche
DTSTART;TZID=Europe/Berlin:20260803T080000
END:VEVENT


BEGIN:VEVENT
DTEND;TZID=Europe/Berlin:20260804T160000
UID:69e8fa82e1f8d1
DTSTAMP:20260422T184242
LOCATION:
DESCRIPTION:Nach einem schönen Vormittag mit verschiedenen Aktivitäten kommen alle Kinder an der Teggingerschule zum Essen zusammen. Etwas warmes zu Essen tut gut.\r\n\r\nEssensbuchung ist nur über diese Veranstaltung möglich!\r\n\r\nEine tageweise Auswahl ist nicht mehr möglich. Es wird auch kein Bargeld mehr eingesammelt. Suppe\, Grillen\, Pizza o.ä. sind in in dieser Veranstaltung inbegriffen und können nicht mehr separat gebucht werden.\r\n\r\nDas Essen wird bestellt. Langfristig soll wieder eine tageweise Buchung und Auswahl ermöglicht werden. Bis dahin wird es drei Tage geben an denen es für alle vegetarisches Essen gibt. Mit der Buchung legen sie fest ob Ihr Kind an den anderen Tagen sich vegetarisch oder fleischlich ernährt.\r\n
URL;VALUE=URI:https://www.unser-ferienprogramm.de/radolfzell/veranstaltung.php?id=295863
SUMMARY:Ferienzeit Buchung für Mittagessen Sommerferienwoche 1. und 2. Woche
DTSTART;TZID=Europe/Berlin:20260804T080000
END:VEVENT


BEGIN:VEVENT
DTEND;TZID=Europe/Berlin:20260805T160000
UID:69e8fa82e1f9e2
DTSTAMP:20260422T184242
LOCATION:
DESCRIPTION:Nach einem schönen Vormittag mit verschiedenen Aktivitäten kommen alle Kinder an der Teggingerschule zum Essen zusammen. Etwas warmes zu Essen tut gut.\r\n\r\nEssensbuchung ist nur über diese Veranstaltung möglich!\r\n\r\nEine tageweise Auswahl ist nicht mehr möglich. Es wird auch kein Bargeld mehr eingesammelt. Suppe\, Grillen\, Pizza o.ä. sind in in dieser Veranstaltung inbegriffen und können nicht mehr separat gebucht werden.\r\n\r\nDas Essen wird bestellt. Langfristig soll wieder eine tageweise Buchung und Auswahl ermöglicht werden. Bis dahin wird es drei Tage geben an denen es für alle vegetarisches Essen gibt. Mit der Buchung legen sie fest ob Ihr Kind an den anderen Tagen sich vegetarisch oder fleischlich ernährt.\r\n
URL;VALUE=URI:https://www.unser-ferienprogramm.de/radolfzell/veranstaltung.php?id=295863
SUMMARY:Ferienzeit Buchung für Mittagessen Sommerferienwoche 1. und 2. Woche
DTSTART;TZID=Europe/Berlin:20260805T080000
END:VEVENT


BEGIN:VEVENT
DTEND;TZID=Europe/Berlin:20260806T160000
UID:69e8fa82e1fab3
DTSTAMP:20260422T184242
LOCATION:
DESCRIPTION:Nach einem schönen Vormittag mit verschiedenen Aktivitäten kommen alle Kinder an der Teggingerschule zum Essen zusammen. Etwas warmes zu Essen tut gut.\r\n\r\nEssensbuchung ist nur über diese Veranstaltung möglich!\r\n\r\nEine tageweise Auswahl ist nicht mehr möglich. Es wird auch kein Bargeld mehr eingesammelt. Suppe\, Grillen\, Pizza o.ä. sind in in dieser Veranstaltung inbegriffen und können nicht mehr separat gebucht werden.\r\n\r\nDas Essen wird bestellt. Langfristig soll wieder eine tageweise Buchung und Auswahl ermöglicht werden. Bis dahin wird es drei Tage geben an denen es für alle vegetarisches Essen gibt. Mit der Buchung legen sie fest ob Ihr Kind an den anderen Tagen sich vegetarisch oder fleischlich ernährt.\r\n
URL;VALUE=URI:https://www.unser-ferienprogramm.de/radolfzell/veranstaltung.php?id=295863
SUMMARY:Ferienzeit Buchung für Mittagessen Sommerferienwoche 1. und 2. Woche
DTSTART;TZID=Europe/Berlin:20260806T080000
END:VEVENT


BEGIN:VEVENT
DTEND;TZID=Europe/Berlin:20260807T160000
UID:69e8fa82e1fb74
DTSTAMP:20260422T184242
LOCATION:
DESCRIPTION:Nach einem schönen Vormittag mit verschiedenen Aktivitäten kommen alle Kinder an der Teggingerschule zum Essen zusammen. Etwas warmes zu Essen tut gut.\r\n\r\nEssensbuchung ist nur über diese Veranstaltung möglich!\r\n\r\nEine tageweise Auswahl ist nicht mehr möglich. Es wird auch kein Bargeld mehr eingesammelt. Suppe\, Grillen\, Pizza o.ä. sind in in dieser Veranstaltung inbegriffen und können nicht mehr separat gebucht werden.\r\n\r\nDas Essen wird bestellt. Langfristig soll wieder eine tageweise Buchung und Auswahl ermöglicht werden. Bis dahin wird es drei Tage geben an denen es für alle vegetarisches Essen gibt. Mit der Buchung legen sie fest ob Ihr Kind an den anderen Tagen sich vegetarisch oder fleischlich ernährt.\r\n
URL;VALUE=URI:https://www.unser-ferienprogramm.de/radolfzell/veranstaltung.php?id=295863
SUMMARY:Ferienzeit Buchung für Mittagessen Sommerferienwoche 1. und 2. Woche
DTSTART;TZID=Europe/Berlin:20260807T080000
END:VEVENT


BEGIN:VEVENT
DTEND;TZID=Europe/Berlin:20260810T160000
UID:69e8fa82e1fc35
DTSTAMP:20260422T184242
LOCATION:
DESCRIPTION:Nach einem schönen Vormittag mit verschiedenen Aktivitäten kommen alle Kinder an der Teggingerschule zum Essen zusammen. Etwas warmes zu Essen tut gut.\r\n\r\nEssensbuchung ist nur über diese Veranstaltung möglich!\r\n\r\nEine tageweise Auswahl ist nicht mehr möglich. Es wird auch kein Bargeld mehr eingesammelt. Suppe\, Grillen\, Pizza o.ä. sind in in dieser Veranstaltung inbegriffen und können nicht mehr separat gebucht werden.\r\n\r\nDas Essen wird bestellt. Langfristig soll wieder eine tageweise Buchung und Auswahl ermöglicht werden. Bis dahin wird es drei Tage geben an denen es für alle vegetarisches Essen gibt. Mit der Buchung legen sie fest ob Ihr Kind an den anderen Tagen sich vegetarisch oder fleischlich ernährt.\r\n
URL;VALUE=URI:https://www.unser-ferienprogramm.de/radolfzell/veranstaltung.php?id=295863
SUMMARY:Ferienzeit Buchung für Mittagessen Sommerferienwoche 1. und 2. Woche
DTSTART;TZID=Europe/Berlin:20260810T080000
END:VEVENT


BEGIN:VEVENT
DTEND;TZID=Europe/Berlin:20260811T160000
UID:69e8fa82e1fd16
DTSTAMP:20260422T184242
LOCATION:
DESCRIPTION:Nach einem schönen Vormittag mit verschiedenen Aktivitäten kommen alle Kinder an der Teggingerschule zum Essen zusammen. Etwas warmes zu Essen tut gut.\r\n\r\nEssensbuchung ist nur über diese Veranstaltung möglich!\r\n\r\nEine tageweise Auswahl ist nicht mehr möglich. Es wird auch kein Bargeld mehr eingesammelt. Suppe\, Grillen\, Pizza o.ä. sind in in dieser Veranstaltung inbegriffen und können nicht mehr separat gebucht werden.\r\n\r\nDas Essen wird bestellt. Langfristig soll wieder eine tageweise Buchung und Auswahl ermöglicht werden. Bis dahin wird es drei Tage geben an denen es für alle vegetarisches Essen gibt. Mit der Buchung legen sie fest ob Ihr Kind an den anderen Tagen sich vegetarisch oder fleischlich ernährt.\r\n
URL;VALUE=URI:https://www.unser-ferienprogramm.de/radolfzell/veranstaltung.php?id=295863
SUMMARY:Ferienzeit Buchung für Mittagessen Sommerferienwoche 1. und 2. Woche
DTSTART;TZID=Europe/Berlin:20260811T080000
END:VEVENT


BEGIN:VEVENT
DTEND;TZID=Europe/Berlin:20260812T160000
UID:69e8fa82e1fde7
DTSTAMP:20260422T184242
LOCATION:
DESCRIPTION:Nach einem schönen Vormittag mit verschiedenen Aktivitäten kommen alle Kinder an der Teggingerschule zum Essen zusammen. Etwas warmes zu Essen tut gut.\r\n\r\nEssensbuchung ist nur über diese Veranstaltung möglich!\r\n\r\nEine tageweise Auswahl ist nicht mehr möglich. Es wird auch kein Bargeld mehr eingesammelt. Suppe\, Grillen\, Pizza o.ä. sind in in dieser Veranstaltung inbegriffen und können nicht mehr separat gebucht werden.\r\n\r\nDas Essen wird bestellt. Langfristig soll wieder eine tageweise Buchung und Auswahl ermöglicht werden. Bis dahin wird es drei Tage geben an denen es für alle vegetarisches Essen gibt. Mit der Buchung legen sie fest ob Ihr Kind an den anderen Tagen sich vegetarisch oder fleischlich ernährt.\r\n
URL;VALUE=URI:https://www.unser-ferienprogramm.de/radolfzell/veranstaltung.php?id=295863
SUMMARY:Ferienzeit Buchung für Mittagessen Sommerferienwoche 1. und 2. Woche
DTSTART;TZID=Europe/Berlin:20260812T080000
END:VEVENT


BEGIN:VEVENT
DTEND;TZID=Europe/Berlin:20260813T160000
UID:69e8fa82e1feb8
DTSTAMP:20260422T184242
LOCATION:
DESCRIPTION:Nach einem schönen Vormittag mit verschiedenen Aktivitäten kommen alle Kinder an der Teggingerschule zum Essen zusammen. Etwas warmes zu Essen tut gut.\r\n\r\nEssensbuchung ist nur über diese Veranstaltung möglich!\r\n\r\nEine tageweise Auswahl ist nicht mehr möglich. Es wird auch kein Bargeld mehr eingesammelt. Suppe\, Grillen\, Pizza o.ä. sind in in dieser Veranstaltung inbegriffen und können nicht mehr separat gebucht werden.\r\n\r\nDas Essen wird bestellt. Langfristig soll wieder eine tageweise Buchung und Auswahl ermöglicht werden. Bis dahin wird es drei Tage geben an denen es für alle vegetarisches Essen gibt. Mit der Buchung legen sie fest ob Ihr Kind an den anderen Tagen sich vegetarisch oder fleischlich ernährt.\r\n
URL;VALUE=URI:https://www.unser-ferienprogramm.de/radolfzell/veranstaltung.php?id=295863
SUMMARY:Ferienzeit Buchung für Mittagessen Sommerferienwoche 1. und 2. Woche
DTSTART;TZID=Europe/Berlin:20260813T080000
END:VEVENT


BEGIN:VEVENT
DTEND;TZID=Europe/Berlin:20260814T160000
UID:69e8fa82e1ff89
DTSTAMP:20260422T184242
LOCATION:
DESCRIPTION:Nach einem schönen Vormittag mit verschiedenen Aktivitäten kommen alle Kinder an der Teggingerschule zum Essen zusammen. Etwas warmes zu Essen tut gut.\r\n\r\nEssensbuchung ist nur über diese Veranstaltung möglich!\r\n\r\nEine tageweise Auswahl ist nicht mehr möglich. Es wird auch kein Bargeld mehr eingesammelt. Suppe\, Grillen\, Pizza o.ä. sind in in dieser Veranstaltung inbegriffen und können nicht mehr separat gebucht werden.\r\n\r\nDas Essen wird bestellt. Langfristig soll wieder eine tageweise Buchung und Auswahl ermöglicht werden. Bis dahin wird es drei Tage geben an denen es für alle vegetarisches Essen gibt. Mit der Buchung legen sie fest ob Ihr Kind an den anderen Tagen sich vegetarisch oder fleischlich ernährt.\r\n
URL;VALUE=URI:https://www.unser-ferienprogramm.de/radolfzell/veranstaltung.php?id=295863
SUMMARY:Ferienzeit Buchung für Mittagessen Sommerferienwoche 1. und 2. Woche
DTSTART;TZID=Europe/Berlin:20260814T080000
END:VEVENT

END:VCALENDAR
